{"text_format":"3","workbook":"xlsx","n_sheets":2,"sheets":["Zugänge","REALVIEW"],"read":"whole","date_system":"1900"}

{"sheet":"Zugänge","index":0,"n_rows":999,"n_cols":7,"rows_kept":999}
["ACHTUNG: die gelben Spalten dürfen nicht bearbeitet werden",{"$nulls":3},"Die Projektstruktur muss identisch zur Projektstrutkru in den Projekteinstellungen im REALVIEW sein"]
[]
["E-Mail","Vorname","Nachname","Telefon","Projektstruktur","_ID_PROJEKT","_ID_STRUKTUR"]
["maxmuster@beispiel.ch","Max","Muster","044 512 18 00","WHG 1",null,{"$f":"IF(E4=\"\",\"\",(VLOOKUP(E4,REALVIEW!$A$2:$C$5000,3,FALSE)))","v":0}]
["martina.muster@firma.ch","Martina","Muster",null,"WHG 2",null,{"$f":"IF(E5=\"\",\"\",(VLOOKUP(E5,REALVIEW!$A$2:$C$5000,3,FALSE)))","v":0}]
[{"$nulls":6},{"$f":"IF(E6=\"\",\"\",(VLOOKUP(E6,REALVIEW!$A$2:$C$5000,3,FALSE)))","v":""}]
[{"$nulls":6},{"$f":"IF(E7=\"\",\"\",(VLOOKUP(E7,REALVIEW!$A$2:$C$5000,3,FALSE)))","v":""}]
[{"$nulls":6},{"$f":"IF(E8=\"\",\"\",(VLOOKUP(E8,REALVIEW!$A$2:$C$5000,3,FALSE)))","v":""}]
[{"$nulls":6},{"$f":"IF(E9=\"\",\"\",(VLOOKUP(E9,REALVIEW!$A$2:$C$5000,3,FALSE)))","v":""}]
[{"$nulls":6},{"$f":"IF(E10=\"\",\"\",(VLOOKUP(E10,REALVIEW!$A$2:$C$5000,3,FALSE)))","v":""}]
[{"$nulls":6},{"$f":"IF(E11=\"\",\"\",(VLOOKUP(E11,REALVIEW!$A$2:$C$5000,3,FALSE)))","v":""}]
[{"$nulls":6},{"$f":"IF(E12=\"\",\"\",(VLOOKUP(E12,REALVIEW!$A$2:$C$5000,3,FALSE)))","v":""}]
[{"$nulls":6},{"$f":"IF(E13=\"\",\"\",(VLOOKUP(E13,REALVIEW!$A$2:$C$5000,3,FALSE)))","v":""}]
[{"$nulls":6},{"$f":"IF(E14=\"\",\"\",(VLOOKUP(E14,REALVIEW!$A$2:$C$5000,3,FALSE)))","v":""}]
[{"$nulls":6},{"$f":"IF(E15=\"\",\"\",(VLOOKUP(E15,REALVIEW!$A$2:$C$5000,3,FALSE)))","v":""}]
[{"$nulls":6},{"$f":"IF(E16=\"\",\"\",(VLOOKUP(E16,REALVIEW!$A$2:$C$5000,3,FALSE)))","v":""}]
[{"$nulls":6},{"$f":"IF(E17=\"\",\"\",(VLOOKUP(E17,REALVIEW!$A$2:$C$5000,3,FALSE)))","v":""}]
[{"$nulls":6},{"$f":"IF(E18=\"\",\"\",(VLOOKUP(E18,REALVIEW!$A$2:$C$5000,3,FALSE)))","v":""}]
[{"$nulls":6},{"$f":"IF(E19=\"\",\"\",(VLOOKUP(E19,REALVIEW!$A$2:$C$5000,3,FALSE)))","v":""}]
[{"$nulls":6},{"$f":"IF(E20=\"\",\"\",(VLOOKUP(E20,REALVIEW!$A$2:$C$5000,3,FALSE)))","v":""}]
[{"$nulls":6},{"$f":"IF(E21=\"\",\"\",(VLOOKUP(E21,REALVIEW!$A$2:$C$5000,3,FALSE)))","v":""}]
[{"$nulls":6},{"$f":"IF(E22=\"\",\"\",(VLOOKUP(E22,REALVIEW!$A$2:$C$5000,3,FALSE)))","v":""}]
[{"$nulls":6},{"$f":"IF(E23=\"\",\"\",(VLOOKUP(E23,REALVIEW!$A$2:$C$5000,3,FALSE)))","v":""}]
[{"$nulls":6},{"$f":"IF(E24=\"\",\"\",(VLOOKUP(E24,REALVIEW!$A$2:$C$5000,3,FALSE)))","v":""}]
[{"$nulls":6},{"$f":"IF(E25=\"\",\"\",(VLOOKUP(E25,REALVIEW!$A$2:$C$5000,3,FALSE)))","v":""}]
[{"$nulls":6},{"$f":"IF(E26=\"\",\"\",(VLOOKUP(E26,REALVIEW!$A$2:$C$5000,3,FALSE)))","v":""}]
[{"$nulls":6},{"$f":"IF(E27=\"\",\"\",(VLOOKUP(E27,REALVIEW!$A$2:$C$5000,3,FALSE)))","v":""}]
[{"$nulls":6},{"$f":"IF(E28=\"\",\"\",(VLOOKUP(E28,REALVIEW!$A$2:$C$5000,3,FALSE)))","v":""}]
[{"$nulls":6},{"$f":"IF(E29=\"\",\"\",(VLOOKUP(E29,REALVIEW!$A$2:$C$5000,3,FALSE)))","v":""}]
[{"$nulls":6},{"$f":"IF(E30=\"\",\"\",(VLOOKUP(E30,REALVIEW!$A$2:$C$5000,3,FALSE)))","v":""}]
[{"$nulls":6},{"$f":"IF(E31=\"\",\"\",(VLOOKUP(E31,REALVIEW!$A$2:$C$5000,3,FALSE)))","v":""}]
[{"$nulls":6},{"$f":"IF(E32=\"\",\"\",(VLOOKUP(E32,REALVIEW!$A$2:$C$5000,3,FALSE)))","v":""}]
[{"$nulls":6},{"$f":"IF(E33=\"\",\"\",(VLOOKUP(E33,REALVIEW!$A$2:$C$5000,3,FALSE)))","v":""}]
[{"$nulls":6},{"$f":"IF(E34=\"\",\"\",(VLOOKUP(E34,REALVIEW!$A$2:$C$5000,3,FALSE)))","v":""}]
[{"$nulls":6},{"$f":"IF(E35=\"\",\"\",(VLOOKUP(E35,REALVIEW!$A$2:$C$5000,3,FALSE)))","v":""}]
[{"$nulls":6},{"$f":"IF(E36=\"\",\"\",(VLOOKUP(E36,REALVIEW!$A$2:$C$5000,3,FALSE)))","v":""}]
[{"$nulls":6},{"$f":"IF(E37=\"\",\"\",(VLOOKUP(E37,REALVIEW!$A$2:$C$5000,3,FALSE)))","v":""}]
[{"$nulls":6},{"$f":"IF(E38=\"\",\"\",(VLOOKUP(E38,REALVIEW!$A$2:$C$5000,3,FALSE)))","v":""}]
[{"$nulls":6},{"$f":"IF(E39=\"\",\"\",(VLOOKUP(E39,REALVIEW!$A$2:$C$5000,3,FALSE)))","v":""}]
[{"$nulls":6},{"$f":"IF(E40=\"\",\"\",(VLOOKUP(E40,REALVIEW!$A$2:$C$5000,3,FALSE)))","v":""}]
[{"$nulls":6},{"$f":"IF(E41=\"\",\"\",(VLOOKUP(E41,REALVIEW!$A$2:$C$5000,3,FALSE)))","v":""}]
[{"$nulls":6},{"$f":"IF(E42=\"\",\"\",(VLOOKUP(E42,REALVIEW!$A$2:$C$5000,3,FALSE)))","v":""}]
[{"$nulls":6},{"$f":"IF(E43=\"\",\"\",(VLOOKUP(E43,REALVIEW!$A$2:$C$5000,3,FALSE)))","v":""}]
[{"$nulls":6},{"$f":"IF(E44=\"\",\"\",(VLOOKUP(E44,REALVIEW!$A$2:$C$5000,3,FALSE)))","v":""}]
[{"$nulls":6},{"$f":"IF(E45=\"\",\"\",(VLOOKUP(E45,REALVIEW!$A$2:$C$5000,3,FALSE)))","v":""}]
[{"$nulls":6},{"$f":"IF(E46=\"\",\"\",(VLOOKUP(E46,REALVIEW!$A$2:$C$5000,3,FALSE)))","v":""}]
[{"$nulls":6},{"$f":"IF(E47=\"\",\"\",(VLOOKUP(E47,REALVIEW!$A$2:$C$5000,3,FALSE)))","v":""}]
[{"$nulls":6},{"$f":"IF(E48=\"\",\"\",(VLOOKUP(E48,REALVIEW!$A$2:$C$5000,3,FALSE)))","v":""}]
[{"$nulls":6},{"$f":"IF(E49=\"\",\"\",(VLOOKUP(E49,REALVIEW!$A$2:$C$5000,3,FALSE)))","v":""}]
[{"$nulls":6},{"$f":"IF(E50=\"\",\"\",(VLOOKUP(E50,REALVIEW!$A$2:$C$5000,3,FALSE)))","v":""}]
[{"$nulls":6},{"$f":"IF(E51=\"\",\"\",(VLOOKUP(E51,REALVIEW!$A$2:$C$5000,3,FALSE)))","v":""}]
[{"$nulls":6},{"$f":"IF(E52=\"\",\"\",(VLOOKUP(E52,REALVIEW!$A$2:$C$5000,3,FALSE)))","v":""}]
[{"$nulls":6},{"$f":"IF(E53=\"\",\"\",(VLOOKUP(E53,REALVIEW!$A$2:$C$5000,3,FALSE)))","v":""}]
[{"$nulls":6},{"$f":"IF(E54=\"\",\"\",(VLOOKUP(E54,REALVIEW!$A$2:$C$5000,3,FALSE)))","v":""}]
[{"$nulls":6},{"$f":"IF(E55=\"\",\"\",(VLOOKUP(E55,REALVIEW!$A$2:$C$5000,3,FALSE)))","v":""}]
[{"$nulls":6},{"$f":"IF(E56=\"\",\"\",(VLOOKUP(E56,REALVIEW!$A$2:$C$5000,3,FALSE)))","v":""}]
[{"$nulls":6},{"$f":"IF(E57=\"\",\"\",(VLOOKUP(E57,REALVIEW!$A$2:$C$5000,3,FALSE)))","v":""}]
[{"$nulls":6},{"$f":"IF(E58=\"\",\"\",(VLOOKUP(E58,REALVIEW!$A$2:$C$5000,3,FALSE)))","v":""}]
[{"$nulls":6},{"$f":"IF(E59=\"\",\"\",(VLOOKUP(E59,REALVIEW!$A$2:$C$5000,3,FALSE)))","v":""}]
[{"$nulls":6},{"$f":"IF(E60=\"\",\"\",(VLOOKUP(E60,REALVIEW!$A$2:$C$5000,3,FALSE)))","v":""}]
[{"$nulls":6},{"$f":"IF(E61=\"\",\"\",(VLOOKUP(E61,REALVIEW!$A$2:$C$5000,3,FALSE)))","v":""}]
[{"$nulls":6},{"$f":"IF(E62=\"\",\"\",(VLOOKUP(E62,REALVIEW!$A$2:$C$5000,3,FALSE)))","v":""}]
[{"$nulls":6},{"$f":"IF(E63=\"\",\"\",(VLOOKUP(E63,REALVIEW!$A$2:$C$5000,3,FALSE)))","v":""}]
[{"$nulls":6},{"$f":"IF(E64=\"\",\"\",(VLOOKUP(E64,REALVIEW!$A$2:$C$5000,3,FALSE)))","v":""}]
[{"$nulls":6},{"$f":"IF(E65=\"\",\"\",(VLOOKUP(E65,REALVIEW!$A$2:$C$5000,3,FALSE)))","v":""}]
[{"$nulls":6},{"$f":"IF(E66=\"\",\"\",(VLOOKUP(E66,REALVIEW!$A$2:$C$5000,3,FALSE)))","v":""}]
[{"$nulls":6},{"$f":"IF(E67=\"\",\"\",(VLOOKUP(E67,REALVIEW!$A$2:$C$5000,3,FALSE)))","v":""}]
[{"$nulls":6},{"$f":"IF(E68=\"\",\"\",(VLOOKUP(E68,REALVIEW!$A$2:$C$5000,3,FALSE)))","v":""}]
[{"$nulls":6},{"$f":"IF(E69=\"\",\"\",(VLOOKUP(E69,REALVIEW!$A$2:$C$5000,3,FALSE)))","v":""}]
[{"$nulls":6},{"$f":"IF(E70=\"\",\"\",(VLOOKUP(E70,REALVIEW!$A$2:$C$5000,3,FALSE)))","v":""}]
[{"$nulls":6},{"$f":"IF(E71=\"\",\"\",(VLOOKUP(E71,REALVIEW!$A$2:$C$5000,3,FALSE)))","v":""}]
[{"$nulls":6},{"$f":"IF(E72=\"\",\"\",(VLOOKUP(E72,REALVIEW!$A$2:$C$5000,3,FALSE)))","v":""}]
[{"$nulls":6},{"$f":"IF(E73=\"\",\"\",(VLOOKUP(E73,REALVIEW!$A$2:$C$5000,3,FALSE)))","v":""}]
[{"$nulls":6},{"$f":"IF(E74=\"\",\"\",(VLOOKUP(E74,REALVIEW!$A$2:$C$5000,3,FALSE)))","v":""}]
[{"$nulls":6},{"$f":"IF(E75=\"\",\"\",(VLOOKUP(E75,REALVIEW!$A$2:$C$5000,3,FALSE)))","v":""}]
[{"$nulls":6},{"$f":"IF(E76=\"\",\"\",(VLOOKUP(E76,REALVIEW!$A$2:$C$5000,3,FALSE)))","v":""}]
[{"$nulls":6},{"$f":"IF(E77=\"\",\"\",(VLOOKUP(E77,REALVIEW!$A$2:$C$5000,3,FALSE)))","v":""}]
[{"$nulls":6},{"$f":"IF(E78=\"\",\"\",(VLOOKUP(E78,REALVIEW!$A$2:$C$5000,3,FALSE)))","v":""}]
[{"$nulls":6},{"$f":"IF(E79=\"\",\"\",(VLOOKUP(E79,REALVIEW!$A$2:$C$5000,3,FALSE)))","v":""}]
[{"$nulls":6},{"$f":"IF(E80=\"\",\"\",(VLOOKUP(E80,REALVIEW!$A$2:$C$5000,3,FALSE)))","v":""}]
[{"$nulls":6},{"$f":"IF(E81=\"\",\"\",(VLOOKUP(E81,REALVIEW!$A$2:$C$5000,3,FALSE)))","v":""}]
[{"$nulls":6},{"$f":"IF(E82=\"\",\"\",(VLOOKUP(E82,REALVIEW!$A$2:$C$5000,3,FALSE)))","v":""}]
[{"$nulls":6},{"$f":"IF(E83=\"\",\"\",(VLOOKUP(E83,REALVIEW!$A$2:$C$5000,3,FALSE)))","v":""}]
[{"$nulls":6},{"$f":"IF(E84=\"\",\"\",(VLOOKUP(E84,REALVIEW!$A$2:$C$5000,3,FALSE)))","v":""}]
[{"$nulls":6},{"$f":"IF(E85=\"\",\"\",(VLOOKUP(E85,REALVIEW!$A$2:$C$5000,3,FALSE)))","v":""}]
[{"$nulls":6},{"$f":"IF(E86=\"\",\"\",(VLOOKUP(E86,REALVIEW!$A$2:$C$5000,3,FALSE)))","v":""}]
[{"$nulls":6},{"$f":"IF(E87=\"\",\"\",(VLOOKUP(E87,REALVIEW!$A$2:$C$5000,3,FALSE)))","v":""}]
[{"$nulls":6},{"$f":"IF(E88=\"\",\"\",(VLOOKUP(E88,REALVIEW!$A$2:$C$5000,3,FALSE)))","v":""}]
[{"$nulls":6},{"$f":"IF(E89=\"\",\"\",(VLOOKUP(E89,REALVIEW!$A$2:$C$5000,3,FALSE)))","v":""}]
[{"$nulls":6},{"$f":"IF(E90=\"\",\"\",(VLOOKUP(E90,REALVIEW!$A$2:$C$5000,3,FALSE)))","v":""}]
[{"$nulls":6},{"$f":"IF(E91=\"\",\"\",(VLOOKUP(E91,REALVIEW!$A$2:$C$5000,3,FALSE)))","v":""}]
[{"$nulls":6},{"$f":"IF(E92=\"\",\"\",(VLOOKUP(E92,REALVIEW!$A$2:$C$5000,3,FALSE)))","v":""}]
[{"$nulls":6},{"$f":"IF(E93=\"\",\"\",(VLOOKUP(E93,REALVIEW!$A$2:$C$5000,3,FALSE)))","v":""}]
[{"$nulls":6},{"$f":"IF(E94=\"\",\"\",(VLOOKUP(E94,REALVIEW!$A$2:$C$5000,3,FALSE)))","v":""}]
[{"$nulls":6},{"$f":"IF(E95=\"\",\"\",(VLOOKUP(E95,REALVIEW!$A$2:$C$5000,3,FALSE)))","v":""}]
[{"$nulls":6},{"$f":"IF(E96=\"\",\"\",(VLOOKUP(E96,REALVIEW!$A$2:$C$5000,3,FALSE)))","v":""}]
[{"$nulls":6},{"$f":"IF(E97=\"\",\"\",(VLOOKUP(E97,REALVIEW!$A$2:$C$5000,3,FALSE)))","v":""}]
[{"$nulls":6},{"$f":"IF(E98=\"\",\"\",(VLOOKUP(E98,REALVIEW!$A$2:$C$5000,3,FALSE)))","v":""}]
[{"$nulls":6},{"$f":"IF(E99=\"\",\"\",(VLOOKUP(E99,REALVIEW!$A$2:$C$5000,3,FALSE)))","v":""}]
[{"$nulls":6},{"$f":"IF(E100=\"\",\"\",(VLOOKUP(E100,REALVIEW!$A$2:$C$5000,3,FALSE)))","v":""}]
[{"$nulls":6},{"$f":"IF(E101=\"\",\"\",(VLOOKUP(E101,REALVIEW!$A$2:$C$5000,3,FALSE)))","v":""}]
[{"$nulls":6},{"$f":"IF(E102=\"\",\"\",(VLOOKUP(E102,REALVIEW!$A$2:$C$5000,3,FALSE)))","v":""}]
[{"$nulls":6},{"$f":"IF(E103=\"\",\"\",(VLOOKUP(E103,REALVIEW!$A$2:$C$5000,3,FALSE)))","v":""}]
[{"$nulls":6},{"$f":"IF(E104=\"\",\"\",(VLOOKUP(E104,REALVIEW!$A$2:$C$5000,3,FALSE)))","v":""}]
[{"$nulls":6},{"$f":"IF(E105=\"\",\"\",(VLOOKUP(E105,REALVIEW!$A$2:$C$5000,3,FALSE)))","v":""}]
[{"$nulls":6},{"$f":"IF(E106=\"\",\"\",(VLOOKUP(E106,REALVIEW!$A$2:$C$5000,3,FALSE)))","v":""}]
[{"$nulls":6},{"$f":"IF(E107=\"\",\"\",(VLOOKUP(E107,REALVIEW!$A$2:$C$5000,3,FALSE)))","v":""}]
[{"$nulls":6},{"$f":"IF(E108=\"\",\"\",(VLOOKUP(E108,REALVIEW!$A$2:$C$5000,3,FALSE)))","v":""}]
[{"$nulls":6},{"$f":"IF(E109=\"\",\"\",(VLOOKUP(E109,REALVIEW!$A$2:$C$5000,3,FALSE)))","v":""}]
[{"$nulls":6},{"$f":"IF(E110=\"\",\"\",(VLOOKUP(E110,REALVIEW!$A$2:$C$5000,3,FALSE)))","v":""}]
[{"$nulls":6},{"$f":"IF(E111=\"\",\"\",(VLOOKUP(E111,REALVIEW!$A$2:$C$5000,3,FALSE)))","v":""}]
[{"$nulls":6},{"$f":"IF(E112=\"\",\"\",(VLOOKUP(E112,REALVIEW!$A$2:$C$5000,3,FALSE)))","v":""}]
[{"$nulls":6},{"$f":"IF(E113=\"\",\"\",(VLOOKUP(E113,REALVIEW!$A$2:$C$5000,3,FALSE)))","v":""}]
[{"$nulls":6},{"$f":"IF(E114=\"\",\"\",(VLOOKUP(E114,REALVIEW!$A$2:$C$5000,3,FALSE)))","v":""}]
[{"$nulls":6},{"$f":"IF(E115=\"\",\"\",(VLOOKUP(E115,REALVIEW!$A$2:$C$5000,3,FALSE)))","v":""}]
[{"$nulls":6},{"$f":"IF(E116=\"\",\"\",(VLOOKUP(E116,REALVIEW!$A$2:$C$5000,3,FALSE)))","v":""}]
[{"$nulls":6},{"$f":"IF(E117=\"\",\"\",(VLOOKUP(E117,REALVIEW!$A$2:$C$5000,3,FALSE)))","v":""}]
[{"$nulls":6},{"$f":"IF(E118=\"\",\"\",(VLOOKUP(E118,REALVIEW!$A$2:$C$5000,3,FALSE)))","v":""}]
[{"$nulls":6},{"$f":"IF(E119=\"\",\"\",(VLOOKUP(E119,REALVIEW!$A$2:$C$5000,3,FALSE)))","v":""}]
[{"$nulls":6},{"$f":"IF(E120=\"\",\"\",(VLOOKUP(E120,REALVIEW!$A$2:$C$5000,3,FALSE)))","v":""}]
[{"$nulls":6},{"$f":"IF(E121=\"\",\"\",(VLOOKUP(E121,REALVIEW!$A$2:$C$5000,3,FALSE)))","v":""}]
[{"$nulls":6},{"$f":"IF(E122=\"\",\"\",(VLOOKUP(E122,REALVIEW!$A$2:$C$5000,3,FALSE)))","v":""}]
[{"$nulls":6},{"$f":"IF(E123=\"\",\"\",(VLOOKUP(E123,REALVIEW!$A$2:$C$5000,3,FALSE)))","v":""}]
[{"$nulls":6},{"$f":"IF(E124=\"\",\"\",(VLOOKUP(E124,REALVIEW!$A$2:$C$5000,3,FALSE)))","v":""}]
[{"$nulls":6},{"$f":"IF(E125=\"\",\"\",(VLOOKUP(E125,REALVIEW!$A$2:$C$5000,3,FALSE)))","v":""}]
[{"$nulls":6},{"$f":"IF(E126=\"\",\"\",(VLOOKUP(E126,REALVIEW!$A$2:$C$5000,3,FALSE)))","v":""}]
[{"$nulls":6},{"$f":"IF(E127=\"\",\"\",(VLOOKUP(E127,REALVIEW!$A$2:$C$5000,3,FALSE)))","v":""}]
[{"$nulls":6},{"$f":"IF(E128=\"\",\"\",(VLOOKUP(E128,REALVIEW!$A$2:$C$5000,3,FALSE)))","v":""}]
[{"$nulls":6},{"$f":"IF(E129=\"\",\"\",(VLOOKUP(E129,REALVIEW!$A$2:$C$5000,3,FALSE)))","v":""}]
[{"$nulls":6},{"$f":"IF(E130=\"\",\"\",(VLOOKUP(E130,REALVIEW!$A$2:$C$5000,3,FALSE)))","v":""}]
[{"$nulls":6},{"$f":"IF(E131=\"\",\"\",(VLOOKUP(E131,REALVIEW!$A$2:$C$5000,3,FALSE)))","v":""}]
[{"$nulls":6},{"$f":"IF(E132=\"\",\"\",(VLOOKUP(E132,REALVIEW!$A$2:$C$5000,3,FALSE)))","v":""}]
[{"$nulls":6},{"$f":"IF(E133=\"\",\"\",(VLOOKUP(E133,REALVIEW!$A$2:$C$5000,3,FALSE)))","v":""}]
[{"$nulls":6},{"$f":"IF(E134=\"\",\"\",(VLOOKUP(E134,REALVIEW!$A$2:$C$5000,3,FALSE)))","v":""}]
[{"$nulls":6},{"$f":"IF(E135=\"\",\"\",(VLOOKUP(E135,REALVIEW!$A$2:$C$5000,3,FALSE)))","v":""}]
[{"$nulls":6},{"$f":"IF(E136=\"\",\"\",(VLOOKUP(E136,REALVIEW!$A$2:$C$5000,3,FALSE)))","v":""}]
[{"$nulls":6},{"$f":"IF(E137=\"\",\"\",(VLOOKUP(E137,REALVIEW!$A$2:$C$5000,3,FALSE)))","v":""}]
[{"$nulls":6},{"$f":"IF(E138=\"\",\"\",(VLOOKUP(E138,REALVIEW!$A$2:$C$5000,3,FALSE)))","v":""}]
[{"$nulls":6},{"$f":"IF(E139=\"\",\"\",(VLOOKUP(E139,REALVIEW!$A$2:$C$5000,3,FALSE)))","v":""}]
[{"$nulls":6},{"$f":"IF(E140=\"\",\"\",(VLOOKUP(E140,REALVIEW!$A$2:$C$5000,3,FALSE)))","v":""}]
[{"$nulls":6},{"$f":"IF(E141=\"\",\"\",(VLOOKUP(E141,REALVIEW!$A$2:$C$5000,3,FALSE)))","v":""}]
[{"$nulls":6},{"$f":"IF(E142=\"\",\"\",(VLOOKUP(E142,REALVIEW!$A$2:$C$5000,3,FALSE)))","v":""}]
[{"$nulls":6},{"$f":"IF(E143=\"\",\"\",(VLOOKUP(E143,REALVIEW!$A$2:$C$5000,3,FALSE)))","v":""}]
[{"$nulls":6},{"$f":"IF(E144=\"\",\"\",(VLOOKUP(E144,REALVIEW!$A$2:$C$5000,3,FALSE)))","v":""}]
[{"$nulls":6},{"$f":"IF(E145=\"\",\"\",(VLOOKUP(E145,REALVIEW!$A$2:$C$5000,3,FALSE)))","v":""}]
[{"$nulls":6},{"$f":"IF(E146=\"\",\"\",(VLOOKUP(E146,REALVIEW!$A$2:$C$5000,3,FALSE)))","v":""}]
[{"$nulls":6},{"$f":"IF(E147=\"\",\"\",(VLOOKUP(E147,REALVIEW!$A$2:$C$5000,3,FALSE)))","v":""}]
[{"$nulls":6},{"$f":"IF(E148=\"\",\"\",(VLOOKUP(E148,REALVIEW!$A$2:$C$5000,3,FALSE)))","v":""}]
[{"$nulls":6},{"$f":"IF(E149=\"\",\"\",(VLOOKUP(E149,REALVIEW!$A$2:$C$5000,3,FALSE)))","v":""}]
[{"$nulls":6},{"$f":"IF(E150=\"\",\"\",(VLOOKUP(E150,REALVIEW!$A$2:$C$5000,3,FALSE)))","v":""}]
[{"$nulls":6},{"$f":"IF(E151=\"\",\"\",(VLOOKUP(E151,REALVIEW!$A$2:$C$5000,3,FALSE)))","v":""}]
[{"$nulls":6},{"$f":"IF(E152=\"\",\"\",(VLOOKUP(E152,REALVIEW!$A$2:$C$5000,3,FALSE)))","v":""}]
[{"$nulls":6},{"$f":"IF(E153=\"\",\"\",(VLOOKUP(E153,REALVIEW!$A$2:$C$5000,3,FALSE)))","v":""}]
[{"$nulls":6},{"$f":"IF(E154=\"\",\"\",(VLOOKUP(E154,REALVIEW!$A$2:$C$5000,3,FALSE)))","v":""}]
[{"$nulls":6},{"$f":"IF(E155=\"\",\"\",(VLOOKUP(E155,REALVIEW!$A$2:$C$5000,3,FALSE)))","v":""}]
[{"$nulls":6},{"$f":"IF(E156=\"\",\"\",(VLOOKUP(E156,REALVIEW!$A$2:$C$5000,3,FALSE)))","v":""}]
[{"$nulls":6},{"$f":"IF(E157=\"\",\"\",(VLOOKUP(E157,REALVIEW!$A$2:$C$5000,3,FALSE)))","v":""}]
[{"$nulls":6},{"$f":"IF(E158=\"\",\"\",(VLOOKUP(E158,REALVIEW!$A$2:$C$5000,3,FALSE)))","v":""}]
[{"$nulls":6},{"$f":"IF(E159=\"\",\"\",(VLOOKUP(E159,REALVIEW!$A$2:$C$5000,3,FALSE)))","v":""}]
[{"$nulls":6},{"$f":"IF(E160=\"\",\"\",(VLOOKUP(E160,REALVIEW!$A$2:$C$5000,3,FALSE)))","v":""}]
[{"$nulls":6},{"$f":"IF(E161=\"\",\"\",(VLOOKUP(E161,REALVIEW!$A$2:$C$5000,3,FALSE)))","v":""}]
[{"$nulls":6},{"$f":"IF(E162=\"\",\"\",(VLOOKUP(E162,REALVIEW!$A$2:$C$5000,3,FALSE)))","v":""}]
[{"$nulls":6},{"$f":"IF(E163=\"\",\"\",(VLOOKUP(E163,REALVIEW!$A$2:$C$5000,3,FALSE)))","v":""}]
[{"$nulls":6},{"$f":"IF(E164=\"\",\"\",(VLOOKUP(E164,REALVIEW!$A$2:$C$5000,3,FALSE)))","v":""}]
[{"$nulls":6},{"$f":"IF(E165=\"\",\"\",(VLOOKUP(E165,REALVIEW!$A$2:$C$5000,3,FALSE)))","v":""}]
[{"$nulls":6},{"$f":"IF(E166=\"\",\"\",(VLOOKUP(E166,REALVIEW!$A$2:$C$5000,3,FALSE)))","v":""}]
[{"$nulls":6},{"$f":"IF(E167=\"\",\"\",(VLOOKUP(E167,REALVIEW!$A$2:$C$5000,3,FALSE)))","v":""}]
[{"$nulls":6},{"$f":"IF(E168=\"\",\"\",(VLOOKUP(E168,REALVIEW!$A$2:$C$5000,3,FALSE)))","v":""}]
[{"$nulls":6},{"$f":"IF(E169=\"\",\"\",(VLOOKUP(E169,REALVIEW!$A$2:$C$5000,3,FALSE)))","v":""}]
[{"$nulls":6},{"$f":"IF(E170=\"\",\"\",(VLOOKUP(E170,REALVIEW!$A$2:$C$5000,3,FALSE)))","v":""}]
[{"$nulls":6},{"$f":"IF(E171=\"\",\"\",(VLOOKUP(E171,REALVIEW!$A$2:$C$5000,3,FALSE)))","v":""}]
[{"$nulls":6},{"$f":"IF(E172=\"\",\"\",(VLOOKUP(E172,REALVIEW!$A$2:$C$5000,3,FALSE)))","v":""}]
[{"$nulls":6},{"$f":"IF(E173=\"\",\"\",(VLOOKUP(E173,REALVIEW!$A$2:$C$5000,3,FALSE)))","v":""}]
[{"$nulls":6},{"$f":"IF(E174=\"\",\"\",(VLOOKUP(E174,REALVIEW!$A$2:$C$5000,3,FALSE)))","v":""}]
[{"$nulls":6},{"$f":"IF(E175=\"\",\"\",(VLOOKUP(E175,REALVIEW!$A$2:$C$5000,3,FALSE)))","v":""}]
[{"$nulls":6},{"$f":"IF(E176=\"\",\"\",(VLOOKUP(E176,REALVIEW!$A$2:$C$5000,3,FALSE)))","v":""}]
[{"$nulls":6},{"$f":"IF(E177=\"\",\"\",(VLOOKUP(E177,REALVIEW!$A$2:$C$5000,3,FALSE)))","v":""}]
[{"$nulls":6},{"$f":"IF(E178=\"\",\"\",(VLOOKUP(E178,REALVIEW!$A$2:$C$5000,3,FALSE)))","v":""}]
[{"$nulls":6},{"$f":"IF(E179=\"\",\"\",(VLOOKUP(E179,REALVIEW!$A$2:$C$5000,3,FALSE)))","v":""}]
[{"$nulls":6},{"$f":"IF(E180=\"\",\"\",(VLOOKUP(E180,REALVIEW!$A$2:$C$5000,3,FALSE)))","v":""}]
[{"$nulls":6},{"$f":"IF(E181=\"\",\"\",(VLOOKUP(E181,REALVIEW!$A$2:$C$5000,3,FALSE)))","v":""}]
[{"$nulls":6},{"$f":"IF(E182=\"\",\"\",(VLOOKUP(E182,REALVIEW!$A$2:$C$5000,3,FALSE)))","v":""}]
[{"$nulls":6},{"$f":"IF(E183=\"\",\"\",(VLOOKUP(E183,REALVIEW!$A$2:$C$5000,3,FALSE)))","v":""}]
[{"$nulls":6},{"$f":"IF(E184=\"\",\"\",(VLOOKUP(E184,REALVIEW!$A$2:$C$5000,3,FALSE)))","v":""}]
[{"$nulls":6},{"$f":"IF(E185=\"\",\"\",(VLOOKUP(E185,REALVIEW!$A$2:$C$5000,3,FALSE)))","v":""}]
[{"$nulls":6},{"$f":"IF(E186=\"\",\"\",(VLOOKUP(E186,REALVIEW!$A$2:$C$5000,3,FALSE)))","v":""}]
[{"$nulls":6},{"$f":"IF(E187=\"\",\"\",(VLOOKUP(E187,REALVIEW!$A$2:$C$5000,3,FALSE)))","v":""}]
[{"$nulls":6},{"$f":"IF(E188=\"\",\"\",(VLOOKUP(E188,REALVIEW!$A$2:$C$5000,3,FALSE)))","v":""}]
[{"$nulls":6},{"$f":"IF(E189=\"\",\"\",(VLOOKUP(E189,REALVIEW!$A$2:$C$5000,3,FALSE)))","v":""}]
[{"$nulls":6},{"$f":"IF(E190=\"\",\"\",(VLOOKUP(E190,REALVIEW!$A$2:$C$5000,3,FALSE)))","v":""}]
[{"$nulls":6},{"$f":"IF(E191=\"\",\"\",(VLOOKUP(E191,REALVIEW!$A$2:$C$5000,3,FALSE)))","v":""}]
[{"$nulls":6},{"$f":"IF(E192=\"\",\"\",(VLOOKUP(E192,REALVIEW!$A$2:$C$5000,3,FALSE)))","v":""}]
[{"$nulls":6},{"$f":"IF(E193=\"\",\"\",(VLOOKUP(E193,REALVIEW!$A$2:$C$5000,3,FALSE)))","v":""}]
[{"$nulls":6},{"$f":"IF(E194=\"\",\"\",(VLOOKUP(E194,REALVIEW!$A$2:$C$5000,3,FALSE)))","v":""}]
[{"$nulls":6},{"$f":"IF(E195=\"\",\"\",(VLOOKUP(E195,REALVIEW!$A$2:$C$5000,3,FALSE)))","v":""}]
[{"$nulls":6},{"$f":"IF(E196=\"\",\"\",(VLOOKUP(E196,REALVIEW!$A$2:$C$5000,3,FALSE)))","v":""}]
[{"$nulls":6},{"$f":"IF(E197=\"\",\"\",(VLOOKUP(E197,REALVIEW!$A$2:$C$5000,3,FALSE)))","v":""}]
[{"$nulls":6},{"$f":"IF(E198=\"\",\"\",(VLOOKUP(E198,REALVIEW!$A$2:$C$5000,3,FALSE)))","v":""}]
[{"$nulls":6},{"$f":"IF(E199=\"\",\"\",(VLOOKUP(E199,REALVIEW!$A$2:$C$5000,3,FALSE)))","v":""}]
[{"$nulls":6},{"$f":"IF(E200=\"\",\"\",(VLOOKUP(E200,REALVIEW!$A$2:$C$5000,3,FALSE)))","v":""}]
[{"$nulls":6},{"$f":"IF(E201=\"\",\"\",(VLOOKUP(E201,REALVIEW!$A$2:$C$5000,3,FALSE)))","v":""}]
[{"$nulls":6},{"$f":"IF(E202=\"\",\"\",(VLOOKUP(E202,REALVIEW!$A$2:$C$5000,3,FALSE)))","v":""}]
[{"$nulls":6},{"$f":"IF(E203=\"\",\"\",(VLOOKUP(E203,REALVIEW!$A$2:$C$5000,3,FALSE)))","v":""}]
[{"$nulls":6},{"$f":"IF(E204=\"\",\"\",(VLOOKUP(E204,REALVIEW!$A$2:$C$5000,3,FALSE)))","v":""}]
[{"$nulls":6},{"$f":"IF(E205=\"\",\"\",(VLOOKUP(E205,REALVIEW!$A$2:$C$5000,3,FALSE)))","v":""}]
[{"$nulls":6},{"$f":"IF(E206=\"\",\"\",(VLOOKUP(E206,REALVIEW!$A$2:$C$5000,3,FALSE)))","v":""}]
[{"$nulls":6},{"$f":"IF(E207=\"\",\"\",(VLOOKUP(E207,REALVIEW!$A$2:$C$5000,3,FALSE)))","v":""}]
[{"$nulls":6},{"$f":"IF(E208=\"\",\"\",(VLOOKUP(E208,REALVIEW!$A$2:$C$5000,3,FALSE)))","v":""}]
[{"$nulls":6},{"$f":"IF(E209=\"\",\"\",(VLOOKUP(E209,REALVIEW!$A$2:$C$5000,3,FALSE)))","v":""}]
[{"$nulls":6},{"$f":"IF(E210=\"\",\"\",(VLOOKUP(E210,REALVIEW!$A$2:$C$5000,3,FALSE)))","v":""}]
[{"$nulls":6},{"$f":"IF(E211=\"\",\"\",(VLOOKUP(E211,REALVIEW!$A$2:$C$5000,3,FALSE)))","v":""}]
[{"$nulls":6},{"$f":"IF(E212=\"\",\"\",(VLOOKUP(E212,REALVIEW!$A$2:$C$5000,3,FALSE)))","v":""}]
[{"$nulls":6},{"$f":"IF(E213=\"\",\"\",(VLOOKUP(E213,REALVIEW!$A$2:$C$5000,3,FALSE)))","v":""}]
[{"$nulls":6},{"$f":"IF(E214=\"\",\"\",(VLOOKUP(E214,REALVIEW!$A$2:$C$5000,3,FALSE)))","v":""}]
[{"$nulls":6},{"$f":"IF(E215=\"\",\"\",(VLOOKUP(E215,REALVIEW!$A$2:$C$5000,3,FALSE)))","v":""}]
[{"$nulls":6},{"$f":"IF(E216=\"\",\"\",(VLOOKUP(E216,REALVIEW!$A$2:$C$5000,3,FALSE)))","v":""}]
[{"$nulls":6},{"$f":"IF(E217=\"\",\"\",(VLOOKUP(E217,REALVIEW!$A$2:$C$5000,3,FALSE)))","v":""}]
[{"$nulls":6},{"$f":"IF(E218=\"\",\"\",(VLOOKUP(E218,REALVIEW!$A$2:$C$5000,3,FALSE)))","v":""}]
[{"$nulls":6},{"$f":"IF(E219=\"\",\"\",(VLOOKUP(E219,REALVIEW!$A$2:$C$5000,3,FALSE)))","v":""}]
[{"$nulls":6},{"$f":"IF(E220=\"\",\"\",(VLOOKUP(E220,REALVIEW!$A$2:$C$5000,3,FALSE)))","v":""}]
[{"$nulls":6},{"$f":"IF(E221=\"\",\"\",(VLOOKUP(E221,REALVIEW!$A$2:$C$5000,3,FALSE)))","v":""}]
[{"$nulls":6},{"$f":"IF(E222=\"\",\"\",(VLOOKUP(E222,REALVIEW!$A$2:$C$5000,3,FALSE)))","v":""}]
[{"$nulls":6},{"$f":"IF(E223=\"\",\"\",(VLOOKUP(E223,REALVIEW!$A$2:$C$5000,3,FALSE)))","v":""}]
[{"$nulls":6},{"$f":"IF(E224=\"\",\"\",(VLOOKUP(E224,REALVIEW!$A$2:$C$5000,3,FALSE)))","v":""}]
[{"$nulls":6},{"$f":"IF(E225=\"\",\"\",(VLOOKUP(E225,REALVIEW!$A$2:$C$5000,3,FALSE)))","v":""}]
[{"$nulls":6},{"$f":"IF(E226=\"\",\"\",(VLOOKUP(E226,REALVIEW!$A$2:$C$5000,3,FALSE)))","v":""}]
[{"$nulls":6},{"$f":"IF(E227=\"\",\"\",(VLOOKUP(E227,REALVIEW!$A$2:$C$5000,3,FALSE)))","v":""}]
[{"$nulls":6},{"$f":"IF(E228=\"\",\"\",(VLOOKUP(E228,REALVIEW!$A$2:$C$5000,3,FALSE)))","v":""}]
[{"$nulls":6},{"$f":"IF(E229=\"\",\"\",(VLOOKUP(E229,REALVIEW!$A$2:$C$5000,3,FALSE)))","v":""}]
[{"$nulls":6},{"$f":"IF(E230=\"\",\"\",(VLOOKUP(E230,REALVIEW!$A$2:$C$5000,3,FALSE)))","v":""}]
[{"$nulls":6},{"$f":"IF(E231=\"\",\"\",(VLOOKUP(E231,REALVIEW!$A$2:$C$5000,3,FALSE)))","v":""}]
[{"$nulls":6},{"$f":"IF(E232=\"\",\"\",(VLOOKUP(E232,REALVIEW!$A$2:$C$5000,3,FALSE)))","v":""}]
[{"$nulls":6},{"$f":"IF(E233=\"\",\"\",(VLOOKUP(E233,REALVIEW!$A$2:$C$5000,3,FALSE)))","v":""}]
[{"$nulls":6},{"$f":"IF(E234=\"\",\"\",(VLOOKUP(E234,REALVIEW!$A$2:$C$5000,3,FALSE)))","v":""}]
[{"$nulls":6},{"$f":"IF(E235=\"\",\"\",(VLOOKUP(E235,REALVIEW!$A$2:$C$5000,3,FALSE)))","v":""}]
[{"$nulls":6},{"$f":"IF(E236=\"\",\"\",(VLOOKUP(E236,REALVIEW!$A$2:$C$5000,3,FALSE)))","v":""}]
[{"$nulls":6},{"$f":"IF(E237=\"\",\"\",(VLOOKUP(E237,REALVIEW!$A$2:$C$5000,3,FALSE)))","v":""}]
[{"$nulls":6},{"$f":"IF(E238=\"\",\"\",(VLOOKUP(E238,REALVIEW!$A$2:$C$5000,3,FALSE)))","v":""}]
[{"$nulls":6},{"$f":"IF(E239=\"\",\"\",(VLOOKUP(E239,REALVIEW!$A$2:$C$5000,3,FALSE)))","v":""}]
[{"$nulls":6},{"$f":"IF(E240=\"\",\"\",(VLOOKUP(E240,REALVIEW!$A$2:$C$5000,3,FALSE)))","v":""}]
[{"$nulls":6},{"$f":"IF(E241=\"\",\"\",(VLOOKUP(E241,REALVIEW!$A$2:$C$5000,3,FALSE)))","v":""}]
[{"$nulls":6},{"$f":"IF(E242=\"\",\"\",(VLOOKUP(E242,REALVIEW!$A$2:$C$5000,3,FALSE)))","v":""}]
[{"$nulls":6},{"$f":"IF(E243=\"\",\"\",(VLOOKUP(E243,REALVIEW!$A$2:$C$5000,3,FALSE)))","v":""}]
[{"$nulls":6},{"$f":"IF(E244=\"\",\"\",(VLOOKUP(E244,REALVIEW!$A$2:$C$5000,3,FALSE)))","v":""}]
[{"$nulls":6},{"$f":"IF(E245=\"\",\"\",(VLOOKUP(E245,REALVIEW!$A$2:$C$5000,3,FALSE)))","v":""}]
[{"$nulls":6},{"$f":"IF(E246=\"\",\"\",(VLOOKUP(E246,REALVIEW!$A$2:$C$5000,3,FALSE)))","v":""}]
[{"$nulls":6},{"$f":"IF(E247=\"\",\"\",(VLOOKUP(E247,REALVIEW!$A$2:$C$5000,3,FALSE)))","v":""}]
[{"$nulls":6},{"$f":"IF(E248=\"\",\"\",(VLOOKUP(E248,REALVIEW!$A$2:$C$5000,3,FALSE)))","v":""}]
[{"$nulls":6},{"$f":"IF(E249=\"\",\"\",(VLOOKUP(E249,REALVIEW!$A$2:$C$5000,3,FALSE)))","v":""}]
[{"$nulls":6},{"$f":"IF(E250=\"\",\"\",(VLOOKUP(E250,REALVIEW!$A$2:$C$5000,3,FALSE)))","v":""}]
[{"$nulls":6},{"$f":"IF(E251=\"\",\"\",(VLOOKUP(E251,REALVIEW!$A$2:$C$5000,3,FALSE)))","v":""}]
[{"$nulls":6},{"$f":"IF(E252=\"\",\"\",(VLOOKUP(E252,REALVIEW!$A$2:$C$5000,3,FALSE)))","v":""}]
[{"$nulls":6},{"$f":"IF(E253=\"\",\"\",(VLOOKUP(E253,REALVIEW!$A$2:$C$5000,3,FALSE)))","v":""}]
[{"$nulls":6},{"$f":"IF(E254=\"\",\"\",(VLOOKUP(E254,REALVIEW!$A$2:$C$5000,3,FALSE)))","v":""}]
[{"$nulls":6},{"$f":"IF(E255=\"\",\"\",(VLOOKUP(E255,REALVIEW!$A$2:$C$5000,3,FALSE)))","v":""}]
[{"$nulls":6},{"$f":"IF(E256=\"\",\"\",(VLOOKUP(E256,REALVIEW!$A$2:$C$5000,3,FALSE)))","v":""}]
[{"$nulls":6},{"$f":"IF(E257=\"\",\"\",(VLOOKUP(E257,REALVIEW!$A$2:$C$5000,3,FALSE)))","v":""}]
[{"$nulls":6},{"$f":"IF(E258=\"\",\"\",(VLOOKUP(E258,REALVIEW!$A$2:$C$5000,3,FALSE)))","v":""}]
[{"$nulls":6},{"$f":"IF(E259=\"\",\"\",(VLOOKUP(E259,REALVIEW!$A$2:$C$5000,3,FALSE)))","v":""}]
[{"$nulls":6},{"$f":"IF(E260=\"\",\"\",(VLOOKUP(E260,REALVIEW!$A$2:$C$5000,3,FALSE)))","v":""}]
[{"$nulls":6},{"$f":"IF(E261=\"\",\"\",(VLOOKUP(E261,REALVIEW!$A$2:$C$5000,3,FALSE)))","v":""}]
[{"$nulls":6},{"$f":"IF(E262=\"\",\"\",(VLOOKUP(E262,REALVIEW!$A$2:$C$5000,3,FALSE)))","v":""}]
[{"$nulls":6},{"$f":"IF(E263=\"\",\"\",(VLOOKUP(E263,REALVIEW!$A$2:$C$5000,3,FALSE)))","v":""}]
[{"$nulls":6},{"$f":"IF(E264=\"\",\"\",(VLOOKUP(E264,REALVIEW!$A$2:$C$5000,3,FALSE)))","v":""}]
[{"$nulls":6},{"$f":"IF(E265=\"\",\"\",(VLOOKUP(E265,REALVIEW!$A$2:$C$5000,3,FALSE)))","v":""}]
[{"$nulls":6},{"$f":"IF(E266=\"\",\"\",(VLOOKUP(E266,REALVIEW!$A$2:$C$5000,3,FALSE)))","v":""}]
[{"$nulls":6},{"$f":"IF(E267=\"\",\"\",(VLOOKUP(E267,REALVIEW!$A$2:$C$5000,3,FALSE)))","v":""}]
[{"$nulls":6},{"$f":"IF(E268=\"\",\"\",(VLOOKUP(E268,REALVIEW!$A$2:$C$5000,3,FALSE)))","v":""}]
[{"$nulls":6},{"$f":"IF(E269=\"\",\"\",(VLOOKUP(E269,REALVIEW!$A$2:$C$5000,3,FALSE)))","v":""}]
[{"$nulls":6},{"$f":"IF(E270=\"\",\"\",(VLOOKUP(E270,REALVIEW!$A$2:$C$5000,3,FALSE)))","v":""}]
[{"$nulls":6},{"$f":"IF(E271=\"\",\"\",(VLOOKUP(E271,REALVIEW!$A$2:$C$5000,3,FALSE)))","v":""}]
[{"$nulls":6},{"$f":"IF(E272=\"\",\"\",(VLOOKUP(E272,REALVIEW!$A$2:$C$5000,3,FALSE)))","v":""}]
[{"$nulls":6},{"$f":"IF(E273=\"\",\"\",(VLOOKUP(E273,REALVIEW!$A$2:$C$5000,3,FALSE)))","v":""}]
[{"$nulls":6},{"$f":"IF(E274=\"\",\"\",(VLOOKUP(E274,REALVIEW!$A$2:$C$5000,3,FALSE)))","v":""}]
[{"$nulls":6},{"$f":"IF(E275=\"\",\"\",(VLOOKUP(E275,REALVIEW!$A$2:$C$5000,3,FALSE)))","v":""}]
[{"$nulls":6},{"$f":"IF(E276=\"\",\"\",(VLOOKUP(E276,REALVIEW!$A$2:$C$5000,3,FALSE)))","v":""}]
[{"$nulls":6},{"$f":"IF(E277=\"\",\"\",(VLOOKUP(E277,REALVIEW!$A$2:$C$5000,3,FALSE)))","v":""}]
[{"$nulls":6},{"$f":"IF(E278=\"\",\"\",(VLOOKUP(E278,REALVIEW!$A$2:$C$5000,3,FALSE)))","v":""}]
[{"$nulls":6},{"$f":"IF(E279=\"\",\"\",(VLOOKUP(E279,REALVIEW!$A$2:$C$5000,3,FALSE)))","v":""}]
[{"$nulls":6},{"$f":"IF(E280=\"\",\"\",(VLOOKUP(E280,REALVIEW!$A$2:$C$5000,3,FALSE)))","v":""}]
[{"$nulls":6},{"$f":"IF(E281=\"\",\"\",(VLOOKUP(E281,REALVIEW!$A$2:$C$5000,3,FALSE)))","v":""}]
[{"$nulls":6},{"$f":"IF(E282=\"\",\"\",(VLOOKUP(E282,REALVIEW!$A$2:$C$5000,3,FALSE)))","v":""}]
[{"$nulls":6},{"$f":"IF(E283=\"\",\"\",(VLOOKUP(E283,REALVIEW!$A$2:$C$5000,3,FALSE)))","v":""}]
[{"$nulls":6},{"$f":"IF(E284=\"\",\"\",(VLOOKUP(E284,REALVIEW!$A$2:$C$5000,3,FALSE)))","v":""}]
[{"$nulls":6},{"$f":"IF(E285=\"\",\"\",(VLOOKUP(E285,REALVIEW!$A$2:$C$5000,3,FALSE)))","v":""}]
[{"$nulls":6},{"$f":"IF(E286=\"\",\"\",(VLOOKUP(E286,REALVIEW!$A$2:$C$5000,3,FALSE)))","v":""}]
[{"$nulls":6},{"$f":"IF(E287=\"\",\"\",(VLOOKUP(E287,REALVIEW!$A$2:$C$5000,3,FALSE)))","v":""}]
[{"$nulls":6},{"$f":"IF(E288=\"\",\"\",(VLOOKUP(E288,REALVIEW!$A$2:$C$5000,3,FALSE)))","v":""}]
[{"$nulls":6},{"$f":"IF(E289=\"\",\"\",(VLOOKUP(E289,REALVIEW!$A$2:$C$5000,3,FALSE)))","v":""}]
[{"$nulls":6},{"$f":"IF(E290=\"\",\"\",(VLOOKUP(E290,REALVIEW!$A$2:$C$5000,3,FALSE)))","v":""}]
[{"$nulls":6},{"$f":"IF(E291=\"\",\"\",(VLOOKUP(E291,REALVIEW!$A$2:$C$5000,3,FALSE)))","v":""}]
[{"$nulls":6},{"$f":"IF(E292=\"\",\"\",(VLOOKUP(E292,REALVIEW!$A$2:$C$5000,3,FALSE)))","v":""}]
[{"$nulls":6},{"$f":"IF(E293=\"\",\"\",(VLOOKUP(E293,REALVIEW!$A$2:$C$5000,3,FALSE)))","v":""}]
[{"$nulls":6},{"$f":"IF(E294=\"\",\"\",(VLOOKUP(E294,REALVIEW!$A$2:$C$5000,3,FALSE)))","v":""}]
[{"$nulls":6},{"$f":"IF(E295=\"\",\"\",(VLOOKUP(E295,REALVIEW!$A$2:$C$5000,3,FALSE)))","v":""}]
[{"$nulls":6},{"$f":"IF(E296=\"\",\"\",(VLOOKUP(E296,REALVIEW!$A$2:$C$5000,3,FALSE)))","v":""}]
[{"$nulls":6},{"$f":"IF(E297=\"\",\"\",(VLOOKUP(E297,REALVIEW!$A$2:$C$5000,3,FALSE)))","v":""}]
[{"$nulls":6},{"$f":"IF(E298=\"\",\"\",(VLOOKUP(E298,REALVIEW!$A$2:$C$5000,3,FALSE)))","v":""}]
[{"$nulls":6},{"$f":"IF(E299=\"\",\"\",(VLOOKUP(E299,REALVIEW!$A$2:$C$5000,3,FALSE)))","v":""}]
[{"$nulls":6},{"$f":"IF(E300=\"\",\"\",(VLOOKUP(E300,REALVIEW!$A$2:$C$5000,3,FALSE)))","v":""}]
[{"$nulls":6},{"$f":"IF(E301=\"\",\"\",(VLOOKUP(E301,REALVIEW!$A$2:$C$5000,3,FALSE)))","v":""}]
[{"$nulls":6},{"$f":"IF(E302=\"\",\"\",(VLOOKUP(E302,REALVIEW!$A$2:$C$5000,3,FALSE)))","v":""}]
[{"$nulls":6},{"$f":"IF(E303=\"\",\"\",(VLOOKUP(E303,REALVIEW!$A$2:$C$5000,3,FALSE)))","v":""}]
[{"$nulls":6},{"$f":"IF(E304=\"\",\"\",(VLOOKUP(E304,REALVIEW!$A$2:$C$5000,3,FALSE)))","v":""}]
[{"$nulls":6},{"$f":"IF(E305=\"\",\"\",(VLOOKUP(E305,REALVIEW!$A$2:$C$5000,3,FALSE)))","v":""}]
[{"$nulls":6},{"$f":"IF(E306=\"\",\"\",(VLOOKUP(E306,REALVIEW!$A$2:$C$5000,3,FALSE)))","v":""}]
[{"$nulls":6},{"$f":"IF(E307=\"\",\"\",(VLOOKUP(E307,REALVIEW!$A$2:$C$5000,3,FALSE)))","v":""}]
[{"$nulls":6},{"$f":"IF(E308=\"\",\"\",(VLOOKUP(E308,REALVIEW!$A$2:$C$5000,3,FALSE)))","v":""}]
[{"$nulls":6},{"$f":"IF(E309=\"\",\"\",(VLOOKUP(E309,REALVIEW!$A$2:$C$5000,3,FALSE)))","v":""}]
[{"$nulls":6},{"$f":"IF(E310=\"\",\"\",(VLOOKUP(E310,REALVIEW!$A$2:$C$5000,3,FALSE)))","v":""}]
[{"$nulls":6},{"$f":"IF(E311=\"\",\"\",(VLOOKUP(E311,REALVIEW!$A$2:$C$5000,3,FALSE)))","v":""}]
[{"$nulls":6},{"$f":"IF(E312=\"\",\"\",(VLOOKUP(E312,REALVIEW!$A$2:$C$5000,3,FALSE)))","v":""}]
[{"$nulls":6},{"$f":"IF(E313=\"\",\"\",(VLOOKUP(E313,REALVIEW!$A$2:$C$5000,3,FALSE)))","v":""}]
[{"$nulls":6},{"$f":"IF(E314=\"\",\"\",(VLOOKUP(E314,REALVIEW!$A$2:$C$5000,3,FALSE)))","v":""}]
[{"$nulls":6},{"$f":"IF(E315=\"\",\"\",(VLOOKUP(E315,REALVIEW!$A$2:$C$5000,3,FALSE)))","v":""}]
[{"$nulls":6},{"$f":"IF(E316=\"\",\"\",(VLOOKUP(E316,REALVIEW!$A$2:$C$5000,3,FALSE)))","v":""}]
[{"$nulls":6},{"$f":"IF(E317=\"\",\"\",(VLOOKUP(E317,REALVIEW!$A$2:$C$5000,3,FALSE)))","v":""}]
[{"$nulls":6},{"$f":"IF(E318=\"\",\"\",(VLOOKUP(E318,REALVIEW!$A$2:$C$5000,3,FALSE)))","v":""}]
[{"$nulls":6},{"$f":"IF(E319=\"\",\"\",(VLOOKUP(E319,REALVIEW!$A$2:$C$5000,3,FALSE)))","v":""}]
[{"$nulls":6},{"$f":"IF(E320=\"\",\"\",(VLOOKUP(E320,REALVIEW!$A$2:$C$5000,3,FALSE)))","v":""}]
[{"$nulls":6},{"$f":"IF(E321=\"\",\"\",(VLOOKUP(E321,REALVIEW!$A$2:$C$5000,3,FALSE)))","v":""}]
[{"$nulls":6},{"$f":"IF(E322=\"\",\"\",(VLOOKUP(E322,REALVIEW!$A$2:$C$5000,3,FALSE)))","v":""}]
[{"$nulls":6},{"$f":"IF(E323=\"\",\"\",(VLOOKUP(E323,REALVIEW!$A$2:$C$5000,3,FALSE)))","v":""}]
[{"$nulls":6},{"$f":"IF(E324=\"\",\"\",(VLOOKUP(E324,REALVIEW!$A$2:$C$5000,3,FALSE)))","v":""}]
[{"$nulls":6},{"$f":"IF(E325=\"\",\"\",(VLOOKUP(E325,REALVIEW!$A$2:$C$5000,3,FALSE)))","v":""}]
[{"$nulls":6},{"$f":"IF(E326=\"\",\"\",(VLOOKUP(E326,REALVIEW!$A$2:$C$5000,3,FALSE)))","v":""}]
[{"$nulls":6},{"$f":"IF(E327=\"\",\"\",(VLOOKUP(E327,REALVIEW!$A$2:$C$5000,3,FALSE)))","v":""}]
[{"$nulls":6},{"$f":"IF(E328=\"\",\"\",(VLOOKUP(E328,REALVIEW!$A$2:$C$5000,3,FALSE)))","v":""}]
[{"$nulls":6},{"$f":"IF(E329=\"\",\"\",(VLOOKUP(E329,REALVIEW!$A$2:$C$5000,3,FALSE)))","v":""}]
[{"$nulls":6},{"$f":"IF(E330=\"\",\"\",(VLOOKUP(E330,REALVIEW!$A$2:$C$5000,3,FALSE)))","v":""}]
[{"$nulls":6},{"$f":"IF(E331=\"\",\"\",(VLOOKUP(E331,REALVIEW!$A$2:$C$5000,3,FALSE)))","v":""}]
[{"$nulls":6},{"$f":"IF(E332=\"\",\"\",(VLOOKUP(E332,REALVIEW!$A$2:$C$5000,3,FALSE)))","v":""}]
[{"$nulls":6},{"$f":"IF(E333=\"\",\"\",(VLOOKUP(E333,REALVIEW!$A$2:$C$5000,3,FALSE)))","v":""}]
[{"$nulls":6},{"$f":"IF(E334=\"\",\"\",(VLOOKUP(E334,REALVIEW!$A$2:$C$5000,3,FALSE)))","v":""}]
[{"$nulls":6},{"$f":"IF(E335=\"\",\"\",(VLOOKUP(E335,REALVIEW!$A$2:$C$5000,3,FALSE)))","v":""}]
[{"$nulls":6},{"$f":"IF(E336=\"\",\"\",(VLOOKUP(E336,REALVIEW!$A$2:$C$5000,3,FALSE)))","v":""}]
[{"$nulls":6},{"$f":"IF(E337=\"\",\"\",(VLOOKUP(E337,REALVIEW!$A$2:$C$5000,3,FALSE)))","v":""}]
[{"$nulls":6},{"$f":"IF(E338=\"\",\"\",(VLOOKUP(E338,REALVIEW!$A$2:$C$5000,3,FALSE)))","v":""}]
[{"$nulls":6},{"$f":"IF(E339=\"\",\"\",(VLOOKUP(E339,REALVIEW!$A$2:$C$5000,3,FALSE)))","v":""}]
[{"$nulls":6},{"$f":"IF(E340=\"\",\"\",(VLOOKUP(E340,REALVIEW!$A$2:$C$5000,3,FALSE)))","v":""}]
[{"$nulls":6},{"$f":"IF(E341=\"\",\"\",(VLOOKUP(E341,REALVIEW!$A$2:$C$5000,3,FALSE)))","v":""}]
[{"$nulls":6},{"$f":"IF(E342=\"\",\"\",(VLOOKUP(E342,REALVIEW!$A$2:$C$5000,3,FALSE)))","v":""}]
[{"$nulls":6},{"$f":"IF(E343=\"\",\"\",(VLOOKUP(E343,REALVIEW!$A$2:$C$5000,3,FALSE)))","v":""}]
[{"$nulls":6},{"$f":"IF(E344=\"\",\"\",(VLOOKUP(E344,REALVIEW!$A$2:$C$5000,3,FALSE)))","v":""}]
[{"$nulls":6},{"$f":"IF(E345=\"\",\"\",(VLOOKUP(E345,REALVIEW!$A$2:$C$5000,3,FALSE)))","v":""}]
[{"$nulls":6},{"$f":"IF(E346=\"\",\"\",(VLOOKUP(E346,REALVIEW!$A$2:$C$5000,3,FALSE)))","v":""}]
[{"$nulls":6},{"$f":"IF(E347=\"\",\"\",(VLOOKUP(E347,REALVIEW!$A$2:$C$5000,3,FALSE)))","v":""}]
[{"$nulls":6},{"$f":"IF(E348=\"\",\"\",(VLOOKUP(E348,REALVIEW!$A$2:$C$5000,3,FALSE)))","v":""}]
[{"$nulls":6},{"$f":"IF(E349=\"\",\"\",(VLOOKUP(E349,REALVIEW!$A$2:$C$5000,3,FALSE)))","v":""}]
[{"$nulls":6},{"$f":"IF(E350=\"\",\"\",(VLOOKUP(E350,REALVIEW!$A$2:$C$5000,3,FALSE)))","v":""}]
[{"$nulls":6},{"$f":"IF(E351=\"\",\"\",(VLOOKUP(E351,REALVIEW!$A$2:$C$5000,3,FALSE)))","v":""}]
[{"$nulls":6},{"$f":"IF(E352=\"\",\"\",(VLOOKUP(E352,REALVIEW!$A$2:$C$5000,3,FALSE)))","v":""}]
[{"$nulls":6},{"$f":"IF(E353=\"\",\"\",(VLOOKUP(E353,REALVIEW!$A$2:$C$5000,3,FALSE)))","v":""}]
[{"$nulls":6},{"$f":"IF(E354=\"\",\"\",(VLOOKUP(E354,REALVIEW!$A$2:$C$5000,3,FALSE)))","v":""}]
[{"$nulls":6},{"$f":"IF(E355=\"\",\"\",(VLOOKUP(E355,REALVIEW!$A$2:$C$5000,3,FALSE)))","v":""}]
[{"$nulls":6},{"$f":"IF(E356=\"\",\"\",(VLOOKUP(E356,REALVIEW!$A$2:$C$5000,3,FALSE)))","v":""}]
[{"$nulls":6},{"$f":"IF(E357=\"\",\"\",(VLOOKUP(E357,REALVIEW!$A$2:$C$5000,3,FALSE)))","v":""}]
[{"$nulls":6},{"$f":"IF(E358=\"\",\"\",(VLOOKUP(E358,REALVIEW!$A$2:$C$5000,3,FALSE)))","v":""}]
[{"$nulls":6},{"$f":"IF(E359=\"\",\"\",(VLOOKUP(E359,REALVIEW!$A$2:$C$5000,3,FALSE)))","v":""}]
[{"$nulls":6},{"$f":"IF(E360=\"\",\"\",(VLOOKUP(E360,REALVIEW!$A$2:$C$5000,3,FALSE)))","v":""}]
[{"$nulls":6},{"$f":"IF(E361=\"\",\"\",(VLOOKUP(E361,REALVIEW!$A$2:$C$5000,3,FALSE)))","v":""}]
[{"$nulls":6},{"$f":"IF(E362=\"\",\"\",(VLOOKUP(E362,REALVIEW!$A$2:$C$5000,3,FALSE)))","v":""}]
[{"$nulls":6},{"$f":"IF(E363=\"\",\"\",(VLOOKUP(E363,REALVIEW!$A$2:$C$5000,3,FALSE)))","v":""}]
[{"$nulls":6},{"$f":"IF(E364=\"\",\"\",(VLOOKUP(E364,REALVIEW!$A$2:$C$5000,3,FALSE)))","v":""}]
[{"$nulls":6},{"$f":"IF(E365=\"\",\"\",(VLOOKUP(E365,REALVIEW!$A$2:$C$5000,3,FALSE)))","v":""}]
[{"$nulls":6},{"$f":"IF(E366=\"\",\"\",(VLOOKUP(E366,REALVIEW!$A$2:$C$5000,3,FALSE)))","v":""}]
[{"$nulls":6},{"$f":"IF(E367=\"\",\"\",(VLOOKUP(E367,REALVIEW!$A$2:$C$5000,3,FALSE)))","v":""}]
[{"$nulls":6},{"$f":"IF(E368=\"\",\"\",(VLOOKUP(E368,REALVIEW!$A$2:$C$5000,3,FALSE)))","v":""}]
[{"$nulls":6},{"$f":"IF(E369=\"\",\"\",(VLOOKUP(E369,REALVIEW!$A$2:$C$5000,3,FALSE)))","v":""}]
[{"$nulls":6},{"$f":"IF(E370=\"\",\"\",(VLOOKUP(E370,REALVIEW!$A$2:$C$5000,3,FALSE)))","v":""}]
[{"$nulls":6},{"$f":"IF(E371=\"\",\"\",(VLOOKUP(E371,REALVIEW!$A$2:$C$5000,3,FALSE)))","v":""}]
[{"$nulls":6},{"$f":"IF(E372=\"\",\"\",(VLOOKUP(E372,REALVIEW!$A$2:$C$5000,3,FALSE)))","v":""}]
[{"$nulls":6},{"$f":"IF(E373=\"\",\"\",(VLOOKUP(E373,REALVIEW!$A$2:$C$5000,3,FALSE)))","v":""}]
[{"$nulls":6},{"$f":"IF(E374=\"\",\"\",(VLOOKUP(E374,REALVIEW!$A$2:$C$5000,3,FALSE)))","v":""}]
[{"$nulls":6},{"$f":"IF(E375=\"\",\"\",(VLOOKUP(E375,REALVIEW!$A$2:$C$5000,3,FALSE)))","v":""}]
[{"$nulls":6},{"$f":"IF(E376=\"\",\"\",(VLOOKUP(E376,REALVIEW!$A$2:$C$5000,3,FALSE)))","v":""}]
[{"$nulls":6},{"$f":"IF(E377=\"\",\"\",(VLOOKUP(E377,REALVIEW!$A$2:$C$5000,3,FALSE)))","v":""}]
[{"$nulls":6},{"$f":"IF(E378=\"\",\"\",(VLOOKUP(E378,REALVIEW!$A$2:$C$5000,3,FALSE)))","v":""}]
[{"$nulls":6},{"$f":"IF(E379=\"\",\"\",(VLOOKUP(E379,REALVIEW!$A$2:$C$5000,3,FALSE)))","v":""}]
[{"$nulls":6},{"$f":"IF(E380=\"\",\"\",(VLOOKUP(E380,REALVIEW!$A$2:$C$5000,3,FALSE)))","v":""}]
[{"$nulls":6},{"$f":"IF(E381=\"\",\"\",(VLOOKUP(E381,REALVIEW!$A$2:$C$5000,3,FALSE)))","v":""}]
[{"$nulls":6},{"$f":"IF(E382=\"\",\"\",(VLOOKUP(E382,REALVIEW!$A$2:$C$5000,3,FALSE)))","v":""}]
[{"$nulls":6},{"$f":"IF(E383=\"\",\"\",(VLOOKUP(E383,REALVIEW!$A$2:$C$5000,3,FALSE)))","v":""}]
[{"$nulls":6},{"$f":"IF(E384=\"\",\"\",(VLOOKUP(E384,REALVIEW!$A$2:$C$5000,3,FALSE)))","v":""}]
[{"$nulls":6},{"$f":"IF(E385=\"\",\"\",(VLOOKUP(E385,REALVIEW!$A$2:$C$5000,3,FALSE)))","v":""}]
[{"$nulls":6},{"$f":"IF(E386=\"\",\"\",(VLOOKUP(E386,REALVIEW!$A$2:$C$5000,3,FALSE)))","v":""}]
[{"$nulls":6},{"$f":"IF(E387=\"\",\"\",(VLOOKUP(E387,REALVIEW!$A$2:$C$5000,3,FALSE)))","v":""}]
[{"$nulls":6},{"$f":"IF(E388=\"\",\"\",(VLOOKUP(E388,REALVIEW!$A$2:$C$5000,3,FALSE)))","v":""}]
[{"$nulls":6},{"$f":"IF(E389=\"\",\"\",(VLOOKUP(E389,REALVIEW!$A$2:$C$5000,3,FALSE)))","v":""}]
[{"$nulls":6},{"$f":"IF(E390=\"\",\"\",(VLOOKUP(E390,REALVIEW!$A$2:$C$5000,3,FALSE)))","v":""}]
[{"$nulls":6},{"$f":"IF(E391=\"\",\"\",(VLOOKUP(E391,REALVIEW!$A$2:$C$5000,3,FALSE)))","v":""}]
[{"$nulls":6},{"$f":"IF(E392=\"\",\"\",(VLOOKUP(E392,REALVIEW!$A$2:$C$5000,3,FALSE)))","v":""}]
[{"$nulls":6},{"$f":"IF(E393=\"\",\"\",(VLOOKUP(E393,REALVIEW!$A$2:$C$5000,3,FALSE)))","v":""}]
[{"$nulls":6},{"$f":"IF(E394=\"\",\"\",(VLOOKUP(E394,REALVIEW!$A$2:$C$5000,3,FALSE)))","v":""}]
[{"$nulls":6},{"$f":"IF(E395=\"\",\"\",(VLOOKUP(E395,REALVIEW!$A$2:$C$5000,3,FALSE)))","v":""}]
[{"$nulls":6},{"$f":"IF(E396=\"\",\"\",(VLOOKUP(E396,REALVIEW!$A$2:$C$5000,3,FALSE)))","v":""}]
[{"$nulls":6},{"$f":"IF(E397=\"\",\"\",(VLOOKUP(E397,REALVIEW!$A$2:$C$5000,3,FALSE)))","v":""}]
[{"$nulls":6},{"$f":"IF(E398=\"\",\"\",(VLOOKUP(E398,REALVIEW!$A$2:$C$5000,3,FALSE)))","v":""}]
[{"$nulls":6},{"$f":"IF(E399=\"\",\"\",(VLOOKUP(E399,REALVIEW!$A$2:$C$5000,3,FALSE)))","v":""}]
[{"$nulls":6},{"$f":"IF(E400=\"\",\"\",(VLOOKUP(E400,REALVIEW!$A$2:$C$5000,3,FALSE)))","v":""}]
[{"$nulls":6},{"$f":"IF(E401=\"\",\"\",(VLOOKUP(E401,REALVIEW!$A$2:$C$5000,3,FALSE)))","v":""}]
[{"$nulls":6},{"$f":"IF(E402=\"\",\"\",(VLOOKUP(E402,REALVIEW!$A$2:$C$5000,3,FALSE)))","v":""}]
[{"$nulls":6},{"$f":"IF(E403=\"\",\"\",(VLOOKUP(E403,REALVIEW!$A$2:$C$5000,3,FALSE)))","v":""}]
[{"$nulls":6},{"$f":"IF(E404=\"\",\"\",(VLOOKUP(E404,REALVIEW!$A$2:$C$5000,3,FALSE)))","v":""}]
[{"$nulls":6},{"$f":"IF(E405=\"\",\"\",(VLOOKUP(E405,REALVIEW!$A$2:$C$5000,3,FALSE)))","v":""}]
[{"$nulls":6},{"$f":"IF(E406=\"\",\"\",(VLOOKUP(E406,REALVIEW!$A$2:$C$5000,3,FALSE)))","v":""}]
[{"$nulls":6},{"$f":"IF(E407=\"\",\"\",(VLOOKUP(E407,REALVIEW!$A$2:$C$5000,3,FALSE)))","v":""}]
[{"$nulls":6},{"$f":"IF(E408=\"\",\"\",(VLOOKUP(E408,REALVIEW!$A$2:$C$5000,3,FALSE)))","v":""}]
[{"$nulls":6},{"$f":"IF(E409=\"\",\"\",(VLOOKUP(E409,REALVIEW!$A$2:$C$5000,3,FALSE)))","v":""}]
[{"$nulls":6},{"$f":"IF(E410=\"\",\"\",(VLOOKUP(E410,REALVIEW!$A$2:$C$5000,3,FALSE)))","v":""}]
[{"$nulls":6},{"$f":"IF(E411=\"\",\"\",(VLOOKUP(E411,REALVIEW!$A$2:$C$5000,3,FALSE)))","v":""}]
[{"$nulls":6},{"$f":"IF(E412=\"\",\"\",(VLOOKUP(E412,REALVIEW!$A$2:$C$5000,3,FALSE)))","v":""}]
[{"$nulls":6},{"$f":"IF(E413=\"\",\"\",(VLOOKUP(E413,REALVIEW!$A$2:$C$5000,3,FALSE)))","v":""}]
[{"$nulls":6},{"$f":"IF(E414=\"\",\"\",(VLOOKUP(E414,REALVIEW!$A$2:$C$5000,3,FALSE)))","v":""}]
[{"$nulls":6},{"$f":"IF(E415=\"\",\"\",(VLOOKUP(E415,REALVIEW!$A$2:$C$5000,3,FALSE)))","v":""}]
[{"$nulls":6},{"$f":"IF(E416=\"\",\"\",(VLOOKUP(E416,REALVIEW!$A$2:$C$5000,3,FALSE)))","v":""}]
[{"$nulls":6},{"$f":"IF(E417=\"\",\"\",(VLOOKUP(E417,REALVIEW!$A$2:$C$5000,3,FALSE)))","v":""}]
[{"$nulls":6},{"$f":"IF(E418=\"\",\"\",(VLOOKUP(E418,REALVIEW!$A$2:$C$5000,3,FALSE)))","v":""}]
[{"$nulls":6},{"$f":"IF(E419=\"\",\"\",(VLOOKUP(E419,REALVIEW!$A$2:$C$5000,3,FALSE)))","v":""}]
[{"$nulls":6},{"$f":"IF(E420=\"\",\"\",(VLOOKUP(E420,REALVIEW!$A$2:$C$5000,3,FALSE)))","v":""}]
[{"$nulls":6},{"$f":"IF(E421=\"\",\"\",(VLOOKUP(E421,REALVIEW!$A$2:$C$5000,3,FALSE)))","v":""}]
[{"$nulls":6},{"$f":"IF(E422=\"\",\"\",(VLOOKUP(E422,REALVIEW!$A$2:$C$5000,3,FALSE)))","v":""}]
[{"$nulls":6},{"$f":"IF(E423=\"\",\"\",(VLOOKUP(E423,REALVIEW!$A$2:$C$5000,3,FALSE)))","v":""}]
[{"$nulls":6},{"$f":"IF(E424=\"\",\"\",(VLOOKUP(E424,REALVIEW!$A$2:$C$5000,3,FALSE)))","v":""}]
[{"$nulls":6},{"$f":"IF(E425=\"\",\"\",(VLOOKUP(E425,REALVIEW!$A$2:$C$5000,3,FALSE)))","v":""}]
[{"$nulls":6},{"$f":"IF(E426=\"\",\"\",(VLOOKUP(E426,REALVIEW!$A$2:$C$5000,3,FALSE)))","v":""}]
[{"$nulls":6},{"$f":"IF(E427=\"\",\"\",(VLOOKUP(E427,REALVIEW!$A$2:$C$5000,3,FALSE)))","v":""}]
[{"$nulls":6},{"$f":"IF(E428=\"\",\"\",(VLOOKUP(E428,REALVIEW!$A$2:$C$5000,3,FALSE)))","v":""}]
[{"$nulls":6},{"$f":"IF(E429=\"\",\"\",(VLOOKUP(E429,REALVIEW!$A$2:$C$5000,3,FALSE)))","v":""}]
[{"$nulls":6},{"$f":"IF(E430=\"\",\"\",(VLOOKUP(E430,REALVIEW!$A$2:$C$5000,3,FALSE)))","v":""}]
[{"$nulls":6},{"$f":"IF(E431=\"\",\"\",(VLOOKUP(E431,REALVIEW!$A$2:$C$5000,3,FALSE)))","v":""}]
[{"$nulls":6},{"$f":"IF(E432=\"\",\"\",(VLOOKUP(E432,REALVIEW!$A$2:$C$5000,3,FALSE)))","v":""}]
[{"$nulls":6},{"$f":"IF(E433=\"\",\"\",(VLOOKUP(E433,REALVIEW!$A$2:$C$5000,3,FALSE)))","v":""}]
[{"$nulls":6},{"$f":"IF(E434=\"\",\"\",(VLOOKUP(E434,REALVIEW!$A$2:$C$5000,3,FALSE)))","v":""}]
[{"$nulls":6},{"$f":"IF(E435=\"\",\"\",(VLOOKUP(E435,REALVIEW!$A$2:$C$5000,3,FALSE)))","v":""}]
[{"$nulls":6},{"$f":"IF(E436=\"\",\"\",(VLOOKUP(E436,REALVIEW!$A$2:$C$5000,3,FALSE)))","v":""}]
[{"$nulls":6},{"$f":"IF(E437=\"\",\"\",(VLOOKUP(E437,REALVIEW!$A$2:$C$5000,3,FALSE)))","v":""}]
[{"$nulls":6},{"$f":"IF(E438=\"\",\"\",(VLOOKUP(E438,REALVIEW!$A$2:$C$5000,3,FALSE)))","v":""}]
[{"$nulls":6},{"$f":"IF(E439=\"\",\"\",(VLOOKUP(E439,REALVIEW!$A$2:$C$5000,3,FALSE)))","v":""}]
[{"$nulls":6},{"$f":"IF(E440=\"\",\"\",(VLOOKUP(E440,REALVIEW!$A$2:$C$5000,3,FALSE)))","v":""}]
[{"$nulls":6},{"$f":"IF(E441=\"\",\"\",(VLOOKUP(E441,REALVIEW!$A$2:$C$5000,3,FALSE)))","v":""}]
[{"$nulls":6},{"$f":"IF(E442=\"\",\"\",(VLOOKUP(E442,REALVIEW!$A$2:$C$5000,3,FALSE)))","v":""}]
[{"$nulls":6},{"$f":"IF(E443=\"\",\"\",(VLOOKUP(E443,REALVIEW!$A$2:$C$5000,3,FALSE)))","v":""}]
[{"$nulls":6},{"$f":"IF(E444=\"\",\"\",(VLOOKUP(E444,REALVIEW!$A$2:$C$5000,3,FALSE)))","v":""}]
[{"$nulls":6},{"$f":"IF(E445=\"\",\"\",(VLOOKUP(E445,REALVIEW!$A$2:$C$5000,3,FALSE)))","v":""}]
[{"$nulls":6},{"$f":"IF(E446=\"\",\"\",(VLOOKUP(E446,REALVIEW!$A$2:$C$5000,3,FALSE)))","v":""}]
[{"$nulls":6},{"$f":"IF(E447=\"\",\"\",(VLOOKUP(E447,REALVIEW!$A$2:$C$5000,3,FALSE)))","v":""}]
[{"$nulls":6},{"$f":"IF(E448=\"\",\"\",(VLOOKUP(E448,REALVIEW!$A$2:$C$5000,3,FALSE)))","v":""}]
[{"$nulls":6},{"$f":"IF(E449=\"\",\"\",(VLOOKUP(E449,REALVIEW!$A$2:$C$5000,3,FALSE)))","v":""}]
[{"$nulls":6},{"$f":"IF(E450=\"\",\"\",(VLOOKUP(E450,REALVIEW!$A$2:$C$5000,3,FALSE)))","v":""}]
[{"$nulls":6},{"$f":"IF(E451=\"\",\"\",(VLOOKUP(E451,REALVIEW!$A$2:$C$5000,3,FALSE)))","v":""}]
[{"$nulls":6},{"$f":"IF(E452=\"\",\"\",(VLOOKUP(E452,REALVIEW!$A$2:$C$5000,3,FALSE)))","v":""}]
[{"$nulls":6},{"$f":"IF(E453=\"\",\"\",(VLOOKUP(E453,REALVIEW!$A$2:$C$5000,3,FALSE)))","v":""}]
[{"$nulls":6},{"$f":"IF(E454=\"\",\"\",(VLOOKUP(E454,REALVIEW!$A$2:$C$5000,3,FALSE)))","v":""}]
[{"$nulls":6},{"$f":"IF(E455=\"\",\"\",(VLOOKUP(E455,REALVIEW!$A$2:$C$5000,3,FALSE)))","v":""}]
[{"$nulls":6},{"$f":"IF(E456=\"\",\"\",(VLOOKUP(E456,REALVIEW!$A$2:$C$5000,3,FALSE)))","v":""}]
[{"$nulls":6},{"$f":"IF(E457=\"\",\"\",(VLOOKUP(E457,REALVIEW!$A$2:$C$5000,3,FALSE)))","v":""}]
[{"$nulls":6},{"$f":"IF(E458=\"\",\"\",(VLOOKUP(E458,REALVIEW!$A$2:$C$5000,3,FALSE)))","v":""}]
[{"$nulls":6},{"$f":"IF(E459=\"\",\"\",(VLOOKUP(E459,REALVIEW!$A$2:$C$5000,3,FALSE)))","v":""}]
[{"$nulls":6},{"$f":"IF(E460=\"\",\"\",(VLOOKUP(E460,REALVIEW!$A$2:$C$5000,3,FALSE)))","v":""}]
[{"$nulls":6},{"$f":"IF(E461=\"\",\"\",(VLOOKUP(E461,REALVIEW!$A$2:$C$5000,3,FALSE)))","v":""}]
[{"$nulls":6},{"$f":"IF(E462=\"\",\"\",(VLOOKUP(E462,REALVIEW!$A$2:$C$5000,3,FALSE)))","v":""}]
[{"$nulls":6},{"$f":"IF(E463=\"\",\"\",(VLOOKUP(E463,REALVIEW!$A$2:$C$5000,3,FALSE)))","v":""}]
[{"$nulls":6},{"$f":"IF(E464=\"\",\"\",(VLOOKUP(E464,REALVIEW!$A$2:$C$5000,3,FALSE)))","v":""}]
[{"$nulls":6},{"$f":"IF(E465=\"\",\"\",(VLOOKUP(E465,REALVIEW!$A$2:$C$5000,3,FALSE)))","v":""}]
[{"$nulls":6},{"$f":"IF(E466=\"\",\"\",(VLOOKUP(E466,REALVIEW!$A$2:$C$5000,3,FALSE)))","v":""}]
[{"$nulls":6},{"$f":"IF(E467=\"\",\"\",(VLOOKUP(E467,REALVIEW!$A$2:$C$5000,3,FALSE)))","v":""}]
[{"$nulls":6},{"$f":"IF(E468=\"\",\"\",(VLOOKUP(E468,REALVIEW!$A$2:$C$5000,3,FALSE)))","v":""}]
[{"$nulls":6},{"$f":"IF(E469=\"\",\"\",(VLOOKUP(E469,REALVIEW!$A$2:$C$5000,3,FALSE)))","v":""}]
[{"$nulls":6},{"$f":"IF(E470=\"\",\"\",(VLOOKUP(E470,REALVIEW!$A$2:$C$5000,3,FALSE)))","v":""}]
[{"$nulls":6},{"$f":"IF(E471=\"\",\"\",(VLOOKUP(E471,REALVIEW!$A$2:$C$5000,3,FALSE)))","v":""}]
[{"$nulls":6},{"$f":"IF(E472=\"\",\"\",(VLOOKUP(E472,REALVIEW!$A$2:$C$5000,3,FALSE)))","v":""}]
[{"$nulls":6},{"$f":"IF(E473=\"\",\"\",(VLOOKUP(E473,REALVIEW!$A$2:$C$5000,3,FALSE)))","v":""}]
[{"$nulls":6},{"$f":"IF(E474=\"\",\"\",(VLOOKUP(E474,REALVIEW!$A$2:$C$5000,3,FALSE)))","v":""}]
[{"$nulls":6},{"$f":"IF(E475=\"\",\"\",(VLOOKUP(E475,REALVIEW!$A$2:$C$5000,3,FALSE)))","v":""}]
[{"$nulls":6},{"$f":"IF(E476=\"\",\"\",(VLOOKUP(E476,REALVIEW!$A$2:$C$5000,3,FALSE)))","v":""}]
[{"$nulls":6},{"$f":"IF(E477=\"\",\"\",(VLOOKUP(E477,REALVIEW!$A$2:$C$5000,3,FALSE)))","v":""}]
[{"$nulls":6},{"$f":"IF(E478=\"\",\"\",(VLOOKUP(E478,REALVIEW!$A$2:$C$5000,3,FALSE)))","v":""}]
[{"$nulls":6},{"$f":"IF(E479=\"\",\"\",(VLOOKUP(E479,REALVIEW!$A$2:$C$5000,3,FALSE)))","v":""}]
[{"$nulls":6},{"$f":"IF(E480=\"\",\"\",(VLOOKUP(E480,REALVIEW!$A$2:$C$5000,3,FALSE)))","v":""}]
[{"$nulls":6},{"$f":"IF(E481=\"\",\"\",(VLOOKUP(E481,REALVIEW!$A$2:$C$5000,3,FALSE)))","v":""}]
[{"$nulls":6},{"$f":"IF(E482=\"\",\"\",(VLOOKUP(E482,REALVIEW!$A$2:$C$5000,3,FALSE)))","v":""}]
[{"$nulls":6},{"$f":"IF(E483=\"\",\"\",(VLOOKUP(E483,REALVIEW!$A$2:$C$5000,3,FALSE)))","v":""}]
[{"$nulls":6},{"$f":"IF(E484=\"\",\"\",(VLOOKUP(E484,REALVIEW!$A$2:$C$5000,3,FALSE)))","v":""}]
[{"$nulls":6},{"$f":"IF(E485=\"\",\"\",(VLOOKUP(E485,REALVIEW!$A$2:$C$5000,3,FALSE)))","v":""}]
[{"$nulls":6},{"$f":"IF(E486=\"\",\"\",(VLOOKUP(E486,REALVIEW!$A$2:$C$5000,3,FALSE)))","v":""}]
[{"$nulls":6},{"$f":"IF(E487=\"\",\"\",(VLOOKUP(E487,REALVIEW!$A$2:$C$5000,3,FALSE)))","v":""}]
[{"$nulls":6},{"$f":"IF(E488=\"\",\"\",(VLOOKUP(E488,REALVIEW!$A$2:$C$5000,3,FALSE)))","v":""}]
[{"$nulls":6},{"$f":"IF(E489=\"\",\"\",(VLOOKUP(E489,REALVIEW!$A$2:$C$5000,3,FALSE)))","v":""}]
[{"$nulls":6},{"$f":"IF(E490=\"\",\"\",(VLOOKUP(E490,REALVIEW!$A$2:$C$5000,3,FALSE)))","v":""}]
[{"$nulls":6},{"$f":"IF(E491=\"\",\"\",(VLOOKUP(E491,REALVIEW!$A$2:$C$5000,3,FALSE)))","v":""}]
[{"$nulls":6},{"$f":"IF(E492=\"\",\"\",(VLOOKUP(E492,REALVIEW!$A$2:$C$5000,3,FALSE)))","v":""}]
[{"$nulls":6},{"$f":"IF(E493=\"\",\"\",(VLOOKUP(E493,REALVIEW!$A$2:$C$5000,3,FALSE)))","v":""}]
[{"$nulls":6},{"$f":"IF(E494=\"\",\"\",(VLOOKUP(E494,REALVIEW!$A$2:$C$5000,3,FALSE)))","v":""}]
[{"$nulls":6},{"$f":"IF(E495=\"\",\"\",(VLOOKUP(E495,REALVIEW!$A$2:$C$5000,3,FALSE)))","v":""}]
[{"$nulls":6},{"$f":"IF(E496=\"\",\"\",(VLOOKUP(E496,REALVIEW!$A$2:$C$5000,3,FALSE)))","v":""}]
[{"$nulls":6},{"$f":"IF(E497=\"\",\"\",(VLOOKUP(E497,REALVIEW!$A$2:$C$5000,3,FALSE)))","v":""}]
[{"$nulls":6},{"$f":"IF(E498=\"\",\"\",(VLOOKUP(E498,REALVIEW!$A$2:$C$5000,3,FALSE)))","v":""}]
[{"$nulls":6},{"$f":"IF(E499=\"\",\"\",(VLOOKUP(E499,REALVIEW!$A$2:$C$5000,3,FALSE)))","v":""}]
[{"$nulls":6},{"$f":"IF(E500=\"\",\"\",(VLOOKUP(E500,REALVIEW!$A$2:$C$5000,3,FALSE)))","v":""}]
[{"$nulls":6},{"$f":"IF(E501=\"\",\"\",(VLOOKUP(E501,REALVIEW!$A$2:$C$5000,3,FALSE)))","v":""}]
[{"$nulls":6},{"$f":"IF(E502=\"\",\"\",(VLOOKUP(E502,REALVIEW!$A$2:$C$5000,3,FALSE)))","v":""}]
[{"$nulls":6},{"$f":"IF(E503=\"\",\"\",(VLOOKUP(E503,REALVIEW!$A$2:$C$5000,3,FALSE)))","v":""}]
[{"$nulls":6},{"$f":"IF(E504=\"\",\"\",(VLOOKUP(E504,REALVIEW!$A$2:$C$5000,3,FALSE)))","v":""}]
[{"$nulls":6},{"$f":"IF(E505=\"\",\"\",(VLOOKUP(E505,REALVIEW!$A$2:$C$5000,3,FALSE)))","v":""}]
[{"$nulls":6},{"$f":"IF(E506=\"\",\"\",(VLOOKUP(E506,REALVIEW!$A$2:$C$5000,3,FALSE)))","v":""}]
[{"$nulls":6},{"$f":"IF(E507=\"\",\"\",(VLOOKUP(E507,REALVIEW!$A$2:$C$5000,3,FALSE)))","v":""}]
[{"$nulls":6},{"$f":"IF(E508=\"\",\"\",(VLOOKUP(E508,REALVIEW!$A$2:$C$5000,3,FALSE)))","v":""}]
[{"$nulls":6},{"$f":"IF(E509=\"\",\"\",(VLOOKUP(E509,REALVIEW!$A$2:$C$5000,3,FALSE)))","v":""}]
[{"$nulls":6},{"$f":"IF(E510=\"\",\"\",(VLOOKUP(E510,REALVIEW!$A$2:$C$5000,3,FALSE)))","v":""}]
[{"$nulls":6},{"$f":"IF(E511=\"\",\"\",(VLOOKUP(E511,REALVIEW!$A$2:$C$5000,3,FALSE)))","v":""}]
[{"$nulls":6},{"$f":"IF(E512=\"\",\"\",(VLOOKUP(E512,REALVIEW!$A$2:$C$5000,3,FALSE)))","v":""}]
[{"$nulls":6},{"$f":"IF(E513=\"\",\"\",(VLOOKUP(E513,REALVIEW!$A$2:$C$5000,3,FALSE)))","v":""}]
[{"$nulls":6},{"$f":"IF(E514=\"\",\"\",(VLOOKUP(E514,REALVIEW!$A$2:$C$5000,3,FALSE)))","v":""}]
[{"$nulls":6},{"$f":"IF(E515=\"\",\"\",(VLOOKUP(E515,REALVIEW!$A$2:$C$5000,3,FALSE)))","v":""}]
[{"$nulls":6},{"$f":"IF(E516=\"\",\"\",(VLOOKUP(E516,REALVIEW!$A$2:$C$5000,3,FALSE)))","v":""}]
[{"$nulls":6},{"$f":"IF(E517=\"\",\"\",(VLOOKUP(E517,REALVIEW!$A$2:$C$5000,3,FALSE)))","v":""}]
[{"$nulls":6},{"$f":"IF(E518=\"\",\"\",(VLOOKUP(E518,REALVIEW!$A$2:$C$5000,3,FALSE)))","v":""}]
[{"$nulls":6},{"$f":"IF(E519=\"\",\"\",(VLOOKUP(E519,REALVIEW!$A$2:$C$5000,3,FALSE)))","v":""}]
[{"$nulls":6},{"$f":"IF(E520=\"\",\"\",(VLOOKUP(E520,REALVIEW!$A$2:$C$5000,3,FALSE)))","v":""}]
[{"$nulls":6},{"$f":"IF(E521=\"\",\"\",(VLOOKUP(E521,REALVIEW!$A$2:$C$5000,3,FALSE)))","v":""}]
[{"$nulls":6},{"$f":"IF(E522=\"\",\"\",(VLOOKUP(E522,REALVIEW!$A$2:$C$5000,3,FALSE)))","v":""}]
[{"$nulls":6},{"$f":"IF(E523=\"\",\"\",(VLOOKUP(E523,REALVIEW!$A$2:$C$5000,3,FALSE)))","v":""}]
[{"$nulls":6},{"$f":"IF(E524=\"\",\"\",(VLOOKUP(E524,REALVIEW!$A$2:$C$5000,3,FALSE)))","v":""}]
[{"$nulls":6},{"$f":"IF(E525=\"\",\"\",(VLOOKUP(E525,REALVIEW!$A$2:$C$5000,3,FALSE)))","v":""}]
[{"$nulls":6},{"$f":"IF(E526=\"\",\"\",(VLOOKUP(E526,REALVIEW!$A$2:$C$5000,3,FALSE)))","v":""}]
[{"$nulls":6},{"$f":"IF(E527=\"\",\"\",(VLOOKUP(E527,REALVIEW!$A$2:$C$5000,3,FALSE)))","v":""}]
[{"$nulls":6},{"$f":"IF(E528=\"\",\"\",(VLOOKUP(E528,REALVIEW!$A$2:$C$5000,3,FALSE)))","v":""}]
[{"$nulls":6},{"$f":"IF(E529=\"\",\"\",(VLOOKUP(E529,REALVIEW!$A$2:$C$5000,3,FALSE)))","v":""}]
[{"$nulls":6},{"$f":"IF(E530=\"\",\"\",(VLOOKUP(E530,REALVIEW!$A$2:$C$5000,3,FALSE)))","v":""}]
[{"$nulls":6},{"$f":"IF(E531=\"\",\"\",(VLOOKUP(E531,REALVIEW!$A$2:$C$5000,3,FALSE)))","v":""}]
[{"$nulls":6},{"$f":"IF(E532=\"\",\"\",(VLOOKUP(E532,REALVIEW!$A$2:$C$5000,3,FALSE)))","v":""}]
[{"$nulls":6},{"$f":"IF(E533=\"\",\"\",(VLOOKUP(E533,REALVIEW!$A$2:$C$5000,3,FALSE)))","v":""}]
[{"$nulls":6},{"$f":"IF(E534=\"\",\"\",(VLOOKUP(E534,REALVIEW!$A$2:$C$5000,3,FALSE)))","v":""}]
[{"$nulls":6},{"$f":"IF(E535=\"\",\"\",(VLOOKUP(E535,REALVIEW!$A$2:$C$5000,3,FALSE)))","v":""}]
[{"$nulls":6},{"$f":"IF(E536=\"\",\"\",(VLOOKUP(E536,REALVIEW!$A$2:$C$5000,3,FALSE)))","v":""}]
[{"$nulls":6},{"$f":"IF(E537=\"\",\"\",(VLOOKUP(E537,REALVIEW!$A$2:$C$5000,3,FALSE)))","v":""}]
[{"$nulls":6},{"$f":"IF(E538=\"\",\"\",(VLOOKUP(E538,REALVIEW!$A$2:$C$5000,3,FALSE)))","v":""}]
[{"$nulls":6},{"$f":"IF(E539=\"\",\"\",(VLOOKUP(E539,REALVIEW!$A$2:$C$5000,3,FALSE)))","v":""}]
[{"$nulls":6},{"$f":"IF(E540=\"\",\"\",(VLOOKUP(E540,REALVIEW!$A$2:$C$5000,3,FALSE)))","v":""}]
[{"$nulls":6},{"$f":"IF(E541=\"\",\"\",(VLOOKUP(E541,REALVIEW!$A$2:$C$5000,3,FALSE)))","v":""}]
[{"$nulls":6},{"$f":"IF(E542=\"\",\"\",(VLOOKUP(E542,REALVIEW!$A$2:$C$5000,3,FALSE)))","v":""}]
[{"$nulls":6},{"$f":"IF(E543=\"\",\"\",(VLOOKUP(E543,REALVIEW!$A$2:$C$5000,3,FALSE)))","v":""}]
[{"$nulls":6},{"$f":"IF(E544=\"\",\"\",(VLOOKUP(E544,REALVIEW!$A$2:$C$5000,3,FALSE)))","v":""}]
[{"$nulls":6},{"$f":"IF(E545=\"\",\"\",(VLOOKUP(E545,REALVIEW!$A$2:$C$5000,3,FALSE)))","v":""}]
[{"$nulls":6},{"$f":"IF(E546=\"\",\"\",(VLOOKUP(E546,REALVIEW!$A$2:$C$5000,3,FALSE)))","v":""}]
[{"$nulls":6},{"$f":"IF(E547=\"\",\"\",(VLOOKUP(E547,REALVIEW!$A$2:$C$5000,3,FALSE)))","v":""}]
[{"$nulls":6},{"$f":"IF(E548=\"\",\"\",(VLOOKUP(E548,REALVIEW!$A$2:$C$5000,3,FALSE)))","v":""}]
[{"$nulls":6},{"$f":"IF(E549=\"\",\"\",(VLOOKUP(E549,REALVIEW!$A$2:$C$5000,3,FALSE)))","v":""}]
[{"$nulls":6},{"$f":"IF(E550=\"\",\"\",(VLOOKUP(E550,REALVIEW!$A$2:$C$5000,3,FALSE)))","v":""}]
[{"$nulls":6},{"$f":"IF(E551=\"\",\"\",(VLOOKUP(E551,REALVIEW!$A$2:$C$5000,3,FALSE)))","v":""}]
[{"$nulls":6},{"$f":"IF(E552=\"\",\"\",(VLOOKUP(E552,REALVIEW!$A$2:$C$5000,3,FALSE)))","v":""}]
[{"$nulls":6},{"$f":"IF(E553=\"\",\"\",(VLOOKUP(E553,REALVIEW!$A$2:$C$5000,3,FALSE)))","v":""}]
[{"$nulls":6},{"$f":"IF(E554=\"\",\"\",(VLOOKUP(E554,REALVIEW!$A$2:$C$5000,3,FALSE)))","v":""}]
[{"$nulls":6},{"$f":"IF(E555=\"\",\"\",(VLOOKUP(E555,REALVIEW!$A$2:$C$5000,3,FALSE)))","v":""}]
[{"$nulls":6},{"$f":"IF(E556=\"\",\"\",(VLOOKUP(E556,REALVIEW!$A$2:$C$5000,3,FALSE)))","v":""}]
[{"$nulls":6},{"$f":"IF(E557=\"\",\"\",(VLOOKUP(E557,REALVIEW!$A$2:$C$5000,3,FALSE)))","v":""}]
[{"$nulls":6},{"$f":"IF(E558=\"\",\"\",(VLOOKUP(E558,REALVIEW!$A$2:$C$5000,3,FALSE)))","v":""}]
[{"$nulls":6},{"$f":"IF(E559=\"\",\"\",(VLOOKUP(E559,REALVIEW!$A$2:$C$5000,3,FALSE)))","v":""}]
[{"$nulls":6},{"$f":"IF(E560=\"\",\"\",(VLOOKUP(E560,REALVIEW!$A$2:$C$5000,3,FALSE)))","v":""}]
[{"$nulls":6},{"$f":"IF(E561=\"\",\"\",(VLOOKUP(E561,REALVIEW!$A$2:$C$5000,3,FALSE)))","v":""}]
[{"$nulls":6},{"$f":"IF(E562=\"\",\"\",(VLOOKUP(E562,REALVIEW!$A$2:$C$5000,3,FALSE)))","v":""}]
[{"$nulls":6},{"$f":"IF(E563=\"\",\"\",(VLOOKUP(E563,REALVIEW!$A$2:$C$5000,3,FALSE)))","v":""}]
[{"$nulls":6},{"$f":"IF(E564=\"\",\"\",(VLOOKUP(E564,REALVIEW!$A$2:$C$5000,3,FALSE)))","v":""}]
[{"$nulls":6},{"$f":"IF(E565=\"\",\"\",(VLOOKUP(E565,REALVIEW!$A$2:$C$5000,3,FALSE)))","v":""}]
[{"$nulls":6},{"$f":"IF(E566=\"\",\"\",(VLOOKUP(E566,REALVIEW!$A$2:$C$5000,3,FALSE)))","v":""}]
[{"$nulls":6},{"$f":"IF(E567=\"\",\"\",(VLOOKUP(E567,REALVIEW!$A$2:$C$5000,3,FALSE)))","v":""}]
[{"$nulls":6},{"$f":"IF(E568=\"\",\"\",(VLOOKUP(E568,REALVIEW!$A$2:$C$5000,3,FALSE)))","v":""}]
[{"$nulls":6},{"$f":"IF(E569=\"\",\"\",(VLOOKUP(E569,REALVIEW!$A$2:$C$5000,3,FALSE)))","v":""}]
[{"$nulls":6},{"$f":"IF(E570=\"\",\"\",(VLOOKUP(E570,REALVIEW!$A$2:$C$5000,3,FALSE)))","v":""}]
[{"$nulls":6},{"$f":"IF(E571=\"\",\"\",(VLOOKUP(E571,REALVIEW!$A$2:$C$5000,3,FALSE)))","v":""}]
[{"$nulls":6},{"$f":"IF(E572=\"\",\"\",(VLOOKUP(E572,REALVIEW!$A$2:$C$5000,3,FALSE)))","v":""}]
[{"$nulls":6},{"$f":"IF(E573=\"\",\"\",(VLOOKUP(E573,REALVIEW!$A$2:$C$5000,3,FALSE)))","v":""}]
[{"$nulls":6},{"$f":"IF(E574=\"\",\"\",(VLOOKUP(E574,REALVIEW!$A$2:$C$5000,3,FALSE)))","v":""}]
[{"$nulls":6},{"$f":"IF(E575=\"\",\"\",(VLOOKUP(E575,REALVIEW!$A$2:$C$5000,3,FALSE)))","v":""}]
[{"$nulls":6},{"$f":"IF(E576=\"\",\"\",(VLOOKUP(E576,REALVIEW!$A$2:$C$5000,3,FALSE)))","v":""}]
[{"$nulls":6},{"$f":"IF(E577=\"\",\"\",(VLOOKUP(E577,REALVIEW!$A$2:$C$5000,3,FALSE)))","v":""}]
[{"$nulls":6},{"$f":"IF(E578=\"\",\"\",(VLOOKUP(E578,REALVIEW!$A$2:$C$5000,3,FALSE)))","v":""}]
[{"$nulls":6},{"$f":"IF(E579=\"\",\"\",(VLOOKUP(E579,REALVIEW!$A$2:$C$5000,3,FALSE)))","v":""}]
[{"$nulls":6},{"$f":"IF(E580=\"\",\"\",(VLOOKUP(E580,REALVIEW!$A$2:$C$5000,3,FALSE)))","v":""}]
[{"$nulls":6},{"$f":"IF(E581=\"\",\"\",(VLOOKUP(E581,REALVIEW!$A$2:$C$5000,3,FALSE)))","v":""}]
[{"$nulls":6},{"$f":"IF(E582=\"\",\"\",(VLOOKUP(E582,REALVIEW!$A$2:$C$5000,3,FALSE)))","v":""}]
[{"$nulls":6},{"$f":"IF(E583=\"\",\"\",(VLOOKUP(E583,REALVIEW!$A$2:$C$5000,3,FALSE)))","v":""}]
[{"$nulls":6},{"$f":"IF(E584=\"\",\"\",(VLOOKUP(E584,REALVIEW!$A$2:$C$5000,3,FALSE)))","v":""}]
[{"$nulls":6},{"$f":"IF(E585=\"\",\"\",(VLOOKUP(E585,REALVIEW!$A$2:$C$5000,3,FALSE)))","v":""}]
[{"$nulls":6},{"$f":"IF(E586=\"\",\"\",(VLOOKUP(E586,REALVIEW!$A$2:$C$5000,3,FALSE)))","v":""}]
[{"$nulls":6},{"$f":"IF(E587=\"\",\"\",(VLOOKUP(E587,REALVIEW!$A$2:$C$5000,3,FALSE)))","v":""}]
[{"$nulls":6},{"$f":"IF(E588=\"\",\"\",(VLOOKUP(E588,REALVIEW!$A$2:$C$5000,3,FALSE)))","v":""}]
[{"$nulls":6},{"$f":"IF(E589=\"\",\"\",(VLOOKUP(E589,REALVIEW!$A$2:$C$5000,3,FALSE)))","v":""}]
[{"$nulls":6},{"$f":"IF(E590=\"\",\"\",(VLOOKUP(E590,REALVIEW!$A$2:$C$5000,3,FALSE)))","v":""}]
[{"$nulls":6},{"$f":"IF(E591=\"\",\"\",(VLOOKUP(E591,REALVIEW!$A$2:$C$5000,3,FALSE)))","v":""}]
[{"$nulls":6},{"$f":"IF(E592=\"\",\"\",(VLOOKUP(E592,REALVIEW!$A$2:$C$5000,3,FALSE)))","v":""}]
[{"$nulls":6},{"$f":"IF(E593=\"\",\"\",(VLOOKUP(E593,REALVIEW!$A$2:$C$5000,3,FALSE)))","v":""}]
[{"$nulls":6},{"$f":"IF(E594=\"\",\"\",(VLOOKUP(E594,REALVIEW!$A$2:$C$5000,3,FALSE)))","v":""}]
[{"$nulls":6},{"$f":"IF(E595=\"\",\"\",(VLOOKUP(E595,REALVIEW!$A$2:$C$5000,3,FALSE)))","v":""}]
[{"$nulls":6},{"$f":"IF(E596=\"\",\"\",(VLOOKUP(E596,REALVIEW!$A$2:$C$5000,3,FALSE)))","v":""}]
[{"$nulls":6},{"$f":"IF(E597=\"\",\"\",(VLOOKUP(E597,REALVIEW!$A$2:$C$5000,3,FALSE)))","v":""}]
[{"$nulls":6},{"$f":"IF(E598=\"\",\"\",(VLOOKUP(E598,REALVIEW!$A$2:$C$5000,3,FALSE)))","v":""}]
[{"$nulls":6},{"$f":"IF(E599=\"\",\"\",(VLOOKUP(E599,REALVIEW!$A$2:$C$5000,3,FALSE)))","v":""}]
[{"$nulls":6},{"$f":"IF(E600=\"\",\"\",(VLOOKUP(E600,REALVIEW!$A$2:$C$5000,3,FALSE)))","v":""}]
[{"$nulls":6},{"$f":"IF(E601=\"\",\"\",(VLOOKUP(E601,REALVIEW!$A$2:$C$5000,3,FALSE)))","v":""}]
[{"$nulls":6},{"$f":"IF(E602=\"\",\"\",(VLOOKUP(E602,REALVIEW!$A$2:$C$5000,3,FALSE)))","v":""}]
[{"$nulls":6},{"$f":"IF(E603=\"\",\"\",(VLOOKUP(E603,REALVIEW!$A$2:$C$5000,3,FALSE)))","v":""}]
[{"$nulls":6},{"$f":"IF(E604=\"\",\"\",(VLOOKUP(E604,REALVIEW!$A$2:$C$5000,3,FALSE)))","v":""}]
[{"$nulls":6},{"$f":"IF(E605=\"\",\"\",(VLOOKUP(E605,REALVIEW!$A$2:$C$5000,3,FALSE)))","v":""}]
[{"$nulls":6},{"$f":"IF(E606=\"\",\"\",(VLOOKUP(E606,REALVIEW!$A$2:$C$5000,3,FALSE)))","v":""}]
[{"$nulls":6},{"$f":"IF(E607=\"\",\"\",(VLOOKUP(E607,REALVIEW!$A$2:$C$5000,3,FALSE)))","v":""}]
[{"$nulls":6},{"$f":"IF(E608=\"\",\"\",(VLOOKUP(E608,REALVIEW!$A$2:$C$5000,3,FALSE)))","v":""}]
[{"$nulls":6},{"$f":"IF(E609=\"\",\"\",(VLOOKUP(E609,REALVIEW!$A$2:$C$5000,3,FALSE)))","v":""}]
[{"$nulls":6},{"$f":"IF(E610=\"\",\"\",(VLOOKUP(E610,REALVIEW!$A$2:$C$5000,3,FALSE)))","v":""}]
[{"$nulls":6},{"$f":"IF(E611=\"\",\"\",(VLOOKUP(E611,REALVIEW!$A$2:$C$5000,3,FALSE)))","v":""}]
[{"$nulls":6},{"$f":"IF(E612=\"\",\"\",(VLOOKUP(E612,REALVIEW!$A$2:$C$5000,3,FALSE)))","v":""}]
[{"$nulls":6},{"$f":"IF(E613=\"\",\"\",(VLOOKUP(E613,REALVIEW!$A$2:$C$5000,3,FALSE)))","v":""}]
[{"$nulls":6},{"$f":"IF(E614=\"\",\"\",(VLOOKUP(E614,REALVIEW!$A$2:$C$5000,3,FALSE)))","v":""}]
[{"$nulls":6},{"$f":"IF(E615=\"\",\"\",(VLOOKUP(E615,REALVIEW!$A$2:$C$5000,3,FALSE)))","v":""}]
[{"$nulls":6},{"$f":"IF(E616=\"\",\"\",(VLOOKUP(E616,REALVIEW!$A$2:$C$5000,3,FALSE)))","v":""}]
[{"$nulls":6},{"$f":"IF(E617=\"\",\"\",(VLOOKUP(E617,REALVIEW!$A$2:$C$5000,3,FALSE)))","v":""}]
[{"$nulls":6},{"$f":"IF(E618=\"\",\"\",(VLOOKUP(E618,REALVIEW!$A$2:$C$5000,3,FALSE)))","v":""}]
[{"$nulls":6},{"$f":"IF(E619=\"\",\"\",(VLOOKUP(E619,REALVIEW!$A$2:$C$5000,3,FALSE)))","v":""}]
[{"$nulls":6},{"$f":"IF(E620=\"\",\"\",(VLOOKUP(E620,REALVIEW!$A$2:$C$5000,3,FALSE)))","v":""}]
[{"$nulls":6},{"$f":"IF(E621=\"\",\"\",(VLOOKUP(E621,REALVIEW!$A$2:$C$5000,3,FALSE)))","v":""}]
[{"$nulls":6},{"$f":"IF(E622=\"\",\"\",(VLOOKUP(E622,REALVIEW!$A$2:$C$5000,3,FALSE)))","v":""}]
[{"$nulls":6},{"$f":"IF(E623=\"\",\"\",(VLOOKUP(E623,REALVIEW!$A$2:$C$5000,3,FALSE)))","v":""}]
[{"$nulls":6},{"$f":"IF(E624=\"\",\"\",(VLOOKUP(E624,REALVIEW!$A$2:$C$5000,3,FALSE)))","v":""}]
[{"$nulls":6},{"$f":"IF(E625=\"\",\"\",(VLOOKUP(E625,REALVIEW!$A$2:$C$5000,3,FALSE)))","v":""}]
[{"$nulls":6},{"$f":"IF(E626=\"\",\"\",(VLOOKUP(E626,REALVIEW!$A$2:$C$5000,3,FALSE)))","v":""}]
[{"$nulls":6},{"$f":"IF(E627=\"\",\"\",(VLOOKUP(E627,REALVIEW!$A$2:$C$5000,3,FALSE)))","v":""}]
[{"$nulls":6},{"$f":"IF(E628=\"\",\"\",(VLOOKUP(E628,REALVIEW!$A$2:$C$5000,3,FALSE)))","v":""}]
[{"$nulls":6},{"$f":"IF(E629=\"\",\"\",(VLOOKUP(E629,REALVIEW!$A$2:$C$5000,3,FALSE)))","v":""}]
[{"$nulls":6},{"$f":"IF(E630=\"\",\"\",(VLOOKUP(E630,REALVIEW!$A$2:$C$5000,3,FALSE)))","v":""}]
[{"$nulls":6},{"$f":"IF(E631=\"\",\"\",(VLOOKUP(E631,REALVIEW!$A$2:$C$5000,3,FALSE)))","v":""}]
[{"$nulls":6},{"$f":"IF(E632=\"\",\"\",(VLOOKUP(E632,REALVIEW!$A$2:$C$5000,3,FALSE)))","v":""}]
[{"$nulls":6},{"$f":"IF(E633=\"\",\"\",(VLOOKUP(E633,REALVIEW!$A$2:$C$5000,3,FALSE)))","v":""}]
[{"$nulls":6},{"$f":"IF(E634=\"\",\"\",(VLOOKUP(E634,REALVIEW!$A$2:$C$5000,3,FALSE)))","v":""}]
[{"$nulls":6},{"$f":"IF(E635=\"\",\"\",(VLOOKUP(E635,REALVIEW!$A$2:$C$5000,3,FALSE)))","v":""}]
[{"$nulls":6},{"$f":"IF(E636=\"\",\"\",(VLOOKUP(E636,REALVIEW!$A$2:$C$5000,3,FALSE)))","v":""}]
[{"$nulls":6},{"$f":"IF(E637=\"\",\"\",(VLOOKUP(E637,REALVIEW!$A$2:$C$5000,3,FALSE)))","v":""}]
[{"$nulls":6},{"$f":"IF(E638=\"\",\"\",(VLOOKUP(E638,REALVIEW!$A$2:$C$5000,3,FALSE)))","v":""}]
[{"$nulls":6},{"$f":"IF(E639=\"\",\"\",(VLOOKUP(E639,REALVIEW!$A$2:$C$5000,3,FALSE)))","v":""}]
[{"$nulls":6},{"$f":"IF(E640=\"\",\"\",(VLOOKUP(E640,REALVIEW!$A$2:$C$5000,3,FALSE)))","v":""}]
[{"$nulls":6},{"$f":"IF(E641=\"\",\"\",(VLOOKUP(E641,REALVIEW!$A$2:$C$5000,3,FALSE)))","v":""}]
[{"$nulls":6},{"$f":"IF(E642=\"\",\"\",(VLOOKUP(E642,REALVIEW!$A$2:$C$5000,3,FALSE)))","v":""}]
[{"$nulls":6},{"$f":"IF(E643=\"\",\"\",(VLOOKUP(E643,REALVIEW!$A$2:$C$5000,3,FALSE)))","v":""}]
[{"$nulls":6},{"$f":"IF(E644=\"\",\"\",(VLOOKUP(E644,REALVIEW!$A$2:$C$5000,3,FALSE)))","v":""}]
[{"$nulls":6},{"$f":"IF(E645=\"\",\"\",(VLOOKUP(E645,REALVIEW!$A$2:$C$5000,3,FALSE)))","v":""}]
[{"$nulls":6},{"$f":"IF(E646=\"\",\"\",(VLOOKUP(E646,REALVIEW!$A$2:$C$5000,3,FALSE)))","v":""}]
[{"$nulls":6},{"$f":"IF(E647=\"\",\"\",(VLOOKUP(E647,REALVIEW!$A$2:$C$5000,3,FALSE)))","v":""}]
[{"$nulls":6},{"$f":"IF(E648=\"\",\"\",(VLOOKUP(E648,REALVIEW!$A$2:$C$5000,3,FALSE)))","v":""}]
[{"$nulls":6},{"$f":"IF(E649=\"\",\"\",(VLOOKUP(E649,REALVIEW!$A$2:$C$5000,3,FALSE)))","v":""}]
[{"$nulls":6},{"$f":"IF(E650=\"\",\"\",(VLOOKUP(E650,REALVIEW!$A$2:$C$5000,3,FALSE)))","v":""}]
[{"$nulls":6},{"$f":"IF(E651=\"\",\"\",(VLOOKUP(E651,REALVIEW!$A$2:$C$5000,3,FALSE)))","v":""}]
[{"$nulls":6},{"$f":"IF(E652=\"\",\"\",(VLOOKUP(E652,REALVIEW!$A$2:$C$5000,3,FALSE)))","v":""}]
[{"$nulls":6},{"$f":"IF(E653=\"\",\"\",(VLOOKUP(E653,REALVIEW!$A$2:$C$5000,3,FALSE)))","v":""}]
[{"$nulls":6},{"$f":"IF(E654=\"\",\"\",(VLOOKUP(E654,REALVIEW!$A$2:$C$5000,3,FALSE)))","v":""}]
[{"$nulls":6},{"$f":"IF(E655=\"\",\"\",(VLOOKUP(E655,REALVIEW!$A$2:$C$5000,3,FALSE)))","v":""}]
[{"$nulls":6},{"$f":"IF(E656=\"\",\"\",(VLOOKUP(E656,REALVIEW!$A$2:$C$5000,3,FALSE)))","v":""}]
[{"$nulls":6},{"$f":"IF(E657=\"\",\"\",(VLOOKUP(E657,REALVIEW!$A$2:$C$5000,3,FALSE)))","v":""}]
[{"$nulls":6},{"$f":"IF(E658=\"\",\"\",(VLOOKUP(E658,REALVIEW!$A$2:$C$5000,3,FALSE)))","v":""}]
[{"$nulls":6},{"$f":"IF(E659=\"\",\"\",(VLOOKUP(E659,REALVIEW!$A$2:$C$5000,3,FALSE)))","v":""}]
[{"$nulls":6},{"$f":"IF(E660=\"\",\"\",(VLOOKUP(E660,REALVIEW!$A$2:$C$5000,3,FALSE)))","v":""}]
[{"$nulls":6},{"$f":"IF(E661=\"\",\"\",(VLOOKUP(E661,REALVIEW!$A$2:$C$5000,3,FALSE)))","v":""}]
[{"$nulls":6},{"$f":"IF(E662=\"\",\"\",(VLOOKUP(E662,REALVIEW!$A$2:$C$5000,3,FALSE)))","v":""}]
[{"$nulls":6},{"$f":"IF(E663=\"\",\"\",(VLOOKUP(E663,REALVIEW!$A$2:$C$5000,3,FALSE)))","v":""}]
[{"$nulls":6},{"$f":"IF(E664=\"\",\"\",(VLOOKUP(E664,REALVIEW!$A$2:$C$5000,3,FALSE)))","v":""}]
[{"$nulls":6},{"$f":"IF(E665=\"\",\"\",(VLOOKUP(E665,REALVIEW!$A$2:$C$5000,3,FALSE)))","v":""}]
[{"$nulls":6},{"$f":"IF(E666=\"\",\"\",(VLOOKUP(E666,REALVIEW!$A$2:$C$5000,3,FALSE)))","v":""}]
[{"$nulls":6},{"$f":"IF(E667=\"\",\"\",(VLOOKUP(E667,REALVIEW!$A$2:$C$5000,3,FALSE)))","v":""}]
[{"$nulls":6},{"$f":"IF(E668=\"\",\"\",(VLOOKUP(E668,REALVIEW!$A$2:$C$5000,3,FALSE)))","v":""}]
[{"$nulls":6},{"$f":"IF(E669=\"\",\"\",(VLOOKUP(E669,REALVIEW!$A$2:$C$5000,3,FALSE)))","v":""}]
[{"$nulls":6},{"$f":"IF(E670=\"\",\"\",(VLOOKUP(E670,REALVIEW!$A$2:$C$5000,3,FALSE)))","v":""}]
[{"$nulls":6},{"$f":"IF(E671=\"\",\"\",(VLOOKUP(E671,REALVIEW!$A$2:$C$5000,3,FALSE)))","v":""}]
[{"$nulls":6},{"$f":"IF(E672=\"\",\"\",(VLOOKUP(E672,REALVIEW!$A$2:$C$5000,3,FALSE)))","v":""}]
[{"$nulls":6},{"$f":"IF(E673=\"\",\"\",(VLOOKUP(E673,REALVIEW!$A$2:$C$5000,3,FALSE)))","v":""}]
[{"$nulls":6},{"$f":"IF(E674=\"\",\"\",(VLOOKUP(E674,REALVIEW!$A$2:$C$5000,3,FALSE)))","v":""}]
[{"$nulls":6},{"$f":"IF(E675=\"\",\"\",(VLOOKUP(E675,REALVIEW!$A$2:$C$5000,3,FALSE)))","v":""}]
[{"$nulls":6},{"$f":"IF(E676=\"\",\"\",(VLOOKUP(E676,REALVIEW!$A$2:$C$5000,3,FALSE)))","v":""}]
[{"$nulls":6},{"$f":"IF(E677=\"\",\"\",(VLOOKUP(E677,REALVIEW!$A$2:$C$5000,3,FALSE)))","v":""}]
[{"$nulls":6},{"$f":"IF(E678=\"\",\"\",(VLOOKUP(E678,REALVIEW!$A$2:$C$5000,3,FALSE)))","v":""}]
[{"$nulls":6},{"$f":"IF(E679=\"\",\"\",(VLOOKUP(E679,REALVIEW!$A$2:$C$5000,3,FALSE)))","v":""}]
[{"$nulls":6},{"$f":"IF(E680=\"\",\"\",(VLOOKUP(E680,REALVIEW!$A$2:$C$5000,3,FALSE)))","v":""}]
[{"$nulls":6},{"$f":"IF(E681=\"\",\"\",(VLOOKUP(E681,REALVIEW!$A$2:$C$5000,3,FALSE)))","v":""}]
[{"$nulls":6},{"$f":"IF(E682=\"\",\"\",(VLOOKUP(E682,REALVIEW!$A$2:$C$5000,3,FALSE)))","v":""}]
[{"$nulls":6},{"$f":"IF(E683=\"\",\"\",(VLOOKUP(E683,REALVIEW!$A$2:$C$5000,3,FALSE)))","v":""}]
[{"$nulls":6},{"$f":"IF(E684=\"\",\"\",(VLOOKUP(E684,REALVIEW!$A$2:$C$5000,3,FALSE)))","v":""}]
[{"$nulls":6},{"$f":"IF(E685=\"\",\"\",(VLOOKUP(E685,REALVIEW!$A$2:$C$5000,3,FALSE)))","v":""}]
[{"$nulls":6},{"$f":"IF(E686=\"\",\"\",(VLOOKUP(E686,REALVIEW!$A$2:$C$5000,3,FALSE)))","v":""}]
[{"$nulls":6},{"$f":"IF(E687=\"\",\"\",(VLOOKUP(E687,REALVIEW!$A$2:$C$5000,3,FALSE)))","v":""}]
[{"$nulls":6},{"$f":"IF(E688=\"\",\"\",(VLOOKUP(E688,REALVIEW!$A$2:$C$5000,3,FALSE)))","v":""}]
[{"$nulls":6},{"$f":"IF(E689=\"\",\"\",(VLOOKUP(E689,REALVIEW!$A$2:$C$5000,3,FALSE)))","v":""}]
[{"$nulls":6},{"$f":"IF(E690=\"\",\"\",(VLOOKUP(E690,REALVIEW!$A$2:$C$5000,3,FALSE)))","v":""}]
[{"$nulls":6},{"$f":"IF(E691=\"\",\"\",(VLOOKUP(E691,REALVIEW!$A$2:$C$5000,3,FALSE)))","v":""}]
[{"$nulls":6},{"$f":"IF(E692=\"\",\"\",(VLOOKUP(E692,REALVIEW!$A$2:$C$5000,3,FALSE)))","v":""}]
[{"$nulls":6},{"$f":"IF(E693=\"\",\"\",(VLOOKUP(E693,REALVIEW!$A$2:$C$5000,3,FALSE)))","v":""}]
[{"$nulls":6},{"$f":"IF(E694=\"\",\"\",(VLOOKUP(E694,REALVIEW!$A$2:$C$5000,3,FALSE)))","v":""}]
[{"$nulls":6},{"$f":"IF(E695=\"\",\"\",(VLOOKUP(E695,REALVIEW!$A$2:$C$5000,3,FALSE)))","v":""}]
[{"$nulls":6},{"$f":"IF(E696=\"\",\"\",(VLOOKUP(E696,REALVIEW!$A$2:$C$5000,3,FALSE)))","v":""}]
[{"$nulls":6},{"$f":"IF(E697=\"\",\"\",(VLOOKUP(E697,REALVIEW!$A$2:$C$5000,3,FALSE)))","v":""}]
[{"$nulls":6},{"$f":"IF(E698=\"\",\"\",(VLOOKUP(E698,REALVIEW!$A$2:$C$5000,3,FALSE)))","v":""}]
[{"$nulls":6},{"$f":"IF(E699=\"\",\"\",(VLOOKUP(E699,REALVIEW!$A$2:$C$5000,3,FALSE)))","v":""}]
[{"$nulls":6},{"$f":"IF(E700=\"\",\"\",(VLOOKUP(E700,REALVIEW!$A$2:$C$5000,3,FALSE)))","v":""}]
[{"$nulls":6},{"$f":"IF(E701=\"\",\"\",(VLOOKUP(E701,REALVIEW!$A$2:$C$5000,3,FALSE)))","v":""}]
[{"$nulls":6},{"$f":"IF(E702=\"\",\"\",(VLOOKUP(E702,REALVIEW!$A$2:$C$5000,3,FALSE)))","v":""}]
[{"$nulls":6},{"$f":"IF(E703=\"\",\"\",(VLOOKUP(E703,REALVIEW!$A$2:$C$5000,3,FALSE)))","v":""}]
[{"$nulls":6},{"$f":"IF(E704=\"\",\"\",(VLOOKUP(E704,REALVIEW!$A$2:$C$5000,3,FALSE)))","v":""}]
[{"$nulls":6},{"$f":"IF(E705=\"\",\"\",(VLOOKUP(E705,REALVIEW!$A$2:$C$5000,3,FALSE)))","v":""}]
[{"$nulls":6},{"$f":"IF(E706=\"\",\"\",(VLOOKUP(E706,REALVIEW!$A$2:$C$5000,3,FALSE)))","v":""}]
[{"$nulls":6},{"$f":"IF(E707=\"\",\"\",(VLOOKUP(E707,REALVIEW!$A$2:$C$5000,3,FALSE)))","v":""}]
[{"$nulls":6},{"$f":"IF(E708=\"\",\"\",(VLOOKUP(E708,REALVIEW!$A$2:$C$5000,3,FALSE)))","v":""}]
[{"$nulls":6},{"$f":"IF(E709=\"\",\"\",(VLOOKUP(E709,REALVIEW!$A$2:$C$5000,3,FALSE)))","v":""}]
[{"$nulls":6},{"$f":"IF(E710=\"\",\"\",(VLOOKUP(E710,REALVIEW!$A$2:$C$5000,3,FALSE)))","v":""}]
[{"$nulls":6},{"$f":"IF(E711=\"\",\"\",(VLOOKUP(E711,REALVIEW!$A$2:$C$5000,3,FALSE)))","v":""}]
[{"$nulls":6},{"$f":"IF(E712=\"\",\"\",(VLOOKUP(E712,REALVIEW!$A$2:$C$5000,3,FALSE)))","v":""}]
[{"$nulls":6},{"$f":"IF(E713=\"\",\"\",(VLOOKUP(E713,REALVIEW!$A$2:$C$5000,3,FALSE)))","v":""}]
[{"$nulls":6},{"$f":"IF(E714=\"\",\"\",(VLOOKUP(E714,REALVIEW!$A$2:$C$5000,3,FALSE)))","v":""}]
[{"$nulls":6},{"$f":"IF(E715=\"\",\"\",(VLOOKUP(E715,REALVIEW!$A$2:$C$5000,3,FALSE)))","v":""}]
[{"$nulls":6},{"$f":"IF(E716=\"\",\"\",(VLOOKUP(E716,REALVIEW!$A$2:$C$5000,3,FALSE)))","v":""}]
[{"$nulls":6},{"$f":"IF(E717=\"\",\"\",(VLOOKUP(E717,REALVIEW!$A$2:$C$5000,3,FALSE)))","v":""}]
[{"$nulls":6},{"$f":"IF(E718=\"\",\"\",(VLOOKUP(E718,REALVIEW!$A$2:$C$5000,3,FALSE)))","v":""}]
[{"$nulls":6},{"$f":"IF(E719=\"\",\"\",(VLOOKUP(E719,REALVIEW!$A$2:$C$5000,3,FALSE)))","v":""}]
[{"$nulls":6},{"$f":"IF(E720=\"\",\"\",(VLOOKUP(E720,REALVIEW!$A$2:$C$5000,3,FALSE)))","v":""}]
[{"$nulls":6},{"$f":"IF(E721=\"\",\"\",(VLOOKUP(E721,REALVIEW!$A$2:$C$5000,3,FALSE)))","v":""}]
[{"$nulls":6},{"$f":"IF(E722=\"\",\"\",(VLOOKUP(E722,REALVIEW!$A$2:$C$5000,3,FALSE)))","v":""}]
[{"$nulls":6},{"$f":"IF(E723=\"\",\"\",(VLOOKUP(E723,REALVIEW!$A$2:$C$5000,3,FALSE)))","v":""}]
[{"$nulls":6},{"$f":"IF(E724=\"\",\"\",(VLOOKUP(E724,REALVIEW!$A$2:$C$5000,3,FALSE)))","v":""}]
[{"$nulls":6},{"$f":"IF(E725=\"\",\"\",(VLOOKUP(E725,REALVIEW!$A$2:$C$5000,3,FALSE)))","v":""}]
[{"$nulls":6},{"$f":"IF(E726=\"\",\"\",(VLOOKUP(E726,REALVIEW!$A$2:$C$5000,3,FALSE)))","v":""}]
[{"$nulls":6},{"$f":"IF(E727=\"\",\"\",(VLOOKUP(E727,REALVIEW!$A$2:$C$5000,3,FALSE)))","v":""}]
[{"$nulls":6},{"$f":"IF(E728=\"\",\"\",(VLOOKUP(E728,REALVIEW!$A$2:$C$5000,3,FALSE)))","v":""}]
[{"$nulls":6},{"$f":"IF(E729=\"\",\"\",(VLOOKUP(E729,REALVIEW!$A$2:$C$5000,3,FALSE)))","v":""}]
[{"$nulls":6},{"$f":"IF(E730=\"\",\"\",(VLOOKUP(E730,REALVIEW!$A$2:$C$5000,3,FALSE)))","v":""}]
[{"$nulls":6},{"$f":"IF(E731=\"\",\"\",(VLOOKUP(E731,REALVIEW!$A$2:$C$5000,3,FALSE)))","v":""}]
[{"$nulls":6},{"$f":"IF(E732=\"\",\"\",(VLOOKUP(E732,REALVIEW!$A$2:$C$5000,3,FALSE)))","v":""}]
[{"$nulls":6},{"$f":"IF(E733=\"\",\"\",(VLOOKUP(E733,REALVIEW!$A$2:$C$5000,3,FALSE)))","v":""}]
[{"$nulls":6},{"$f":"IF(E734=\"\",\"\",(VLOOKUP(E734,REALVIEW!$A$2:$C$5000,3,FALSE)))","v":""}]
[{"$nulls":6},{"$f":"IF(E735=\"\",\"\",(VLOOKUP(E735,REALVIEW!$A$2:$C$5000,3,FALSE)))","v":""}]
[{"$nulls":6},{"$f":"IF(E736=\"\",\"\",(VLOOKUP(E736,REALVIEW!$A$2:$C$5000,3,FALSE)))","v":""}]
[{"$nulls":6},{"$f":"IF(E737=\"\",\"\",(VLOOKUP(E737,REALVIEW!$A$2:$C$5000,3,FALSE)))","v":""}]
[{"$nulls":6},{"$f":"IF(E738=\"\",\"\",(VLOOKUP(E738,REALVIEW!$A$2:$C$5000,3,FALSE)))","v":""}]
[{"$nulls":6},{"$f":"IF(E739=\"\",\"\",(VLOOKUP(E739,REALVIEW!$A$2:$C$5000,3,FALSE)))","v":""}]
[{"$nulls":6},{"$f":"IF(E740=\"\",\"\",(VLOOKUP(E740,REALVIEW!$A$2:$C$5000,3,FALSE)))","v":""}]
[{"$nulls":6},{"$f":"IF(E741=\"\",\"\",(VLOOKUP(E741,REALVIEW!$A$2:$C$5000,3,FALSE)))","v":""}]
[{"$nulls":6},{"$f":"IF(E742=\"\",\"\",(VLOOKUP(E742,REALVIEW!$A$2:$C$5000,3,FALSE)))","v":""}]
[{"$nulls":6},{"$f":"IF(E743=\"\",\"\",(VLOOKUP(E743,REALVIEW!$A$2:$C$5000,3,FALSE)))","v":""}]
[{"$nulls":6},{"$f":"IF(E744=\"\",\"\",(VLOOKUP(E744,REALVIEW!$A$2:$C$5000,3,FALSE)))","v":""}]
[{"$nulls":6},{"$f":"IF(E745=\"\",\"\",(VLOOKUP(E745,REALVIEW!$A$2:$C$5000,3,FALSE)))","v":""}]
[{"$nulls":6},{"$f":"IF(E746=\"\",\"\",(VLOOKUP(E746,REALVIEW!$A$2:$C$5000,3,FALSE)))","v":""}]
[{"$nulls":6},{"$f":"IF(E747=\"\",\"\",(VLOOKUP(E747,REALVIEW!$A$2:$C$5000,3,FALSE)))","v":""}]
[{"$nulls":6},{"$f":"IF(E748=\"\",\"\",(VLOOKUP(E748,REALVIEW!$A$2:$C$5000,3,FALSE)))","v":""}]
[{"$nulls":6},{"$f":"IF(E749=\"\",\"\",(VLOOKUP(E749,REALVIEW!$A$2:$C$5000,3,FALSE)))","v":""}]
[{"$nulls":6},{"$f":"IF(E750=\"\",\"\",(VLOOKUP(E750,REALVIEW!$A$2:$C$5000,3,FALSE)))","v":""}]
[{"$nulls":6},{"$f":"IF(E751=\"\",\"\",(VLOOKUP(E751,REALVIEW!$A$2:$C$5000,3,FALSE)))","v":""}]
[{"$nulls":6},{"$f":"IF(E752=\"\",\"\",(VLOOKUP(E752,REALVIEW!$A$2:$C$5000,3,FALSE)))","v":""}]
[{"$nulls":6},{"$f":"IF(E753=\"\",\"\",(VLOOKUP(E753,REALVIEW!$A$2:$C$5000,3,FALSE)))","v":""}]
[{"$nulls":6},{"$f":"IF(E754=\"\",\"\",(VLOOKUP(E754,REALVIEW!$A$2:$C$5000,3,FALSE)))","v":""}]
[{"$nulls":6},{"$f":"IF(E755=\"\",\"\",(VLOOKUP(E755,REALVIEW!$A$2:$C$5000,3,FALSE)))","v":""}]
[{"$nulls":6},{"$f":"IF(E756=\"\",\"\",(VLOOKUP(E756,REALVIEW!$A$2:$C$5000,3,FALSE)))","v":""}]
[{"$nulls":6},{"$f":"IF(E757=\"\",\"\",(VLOOKUP(E757,REALVIEW!$A$2:$C$5000,3,FALSE)))","v":""}]
[{"$nulls":6},{"$f":"IF(E758=\"\",\"\",(VLOOKUP(E758,REALVIEW!$A$2:$C$5000,3,FALSE)))","v":""}]
[{"$nulls":6},{"$f":"IF(E759=\"\",\"\",(VLOOKUP(E759,REALVIEW!$A$2:$C$5000,3,FALSE)))","v":""}]
[{"$nulls":6},{"$f":"IF(E760=\"\",\"\",(VLOOKUP(E760,REALVIEW!$A$2:$C$5000,3,FALSE)))","v":""}]
[{"$nulls":6},{"$f":"IF(E761=\"\",\"\",(VLOOKUP(E761,REALVIEW!$A$2:$C$5000,3,FALSE)))","v":""}]
[{"$nulls":6},{"$f":"IF(E762=\"\",\"\",(VLOOKUP(E762,REALVIEW!$A$2:$C$5000,3,FALSE)))","v":""}]
[{"$nulls":6},{"$f":"IF(E763=\"\",\"\",(VLOOKUP(E763,REALVIEW!$A$2:$C$5000,3,FALSE)))","v":""}]
[{"$nulls":6},{"$f":"IF(E764=\"\",\"\",(VLOOKUP(E764,REALVIEW!$A$2:$C$5000,3,FALSE)))","v":""}]
[{"$nulls":6},{"$f":"IF(E765=\"\",\"\",(VLOOKUP(E765,REALVIEW!$A$2:$C$5000,3,FALSE)))","v":""}]
[{"$nulls":6},{"$f":"IF(E766=\"\",\"\",(VLOOKUP(E766,REALVIEW!$A$2:$C$5000,3,FALSE)))","v":""}]
[{"$nulls":6},{"$f":"IF(E767=\"\",\"\",(VLOOKUP(E767,REALVIEW!$A$2:$C$5000,3,FALSE)))","v":""}]
[{"$nulls":6},{"$f":"IF(E768=\"\",\"\",(VLOOKUP(E768,REALVIEW!$A$2:$C$5000,3,FALSE)))","v":""}]
[{"$nulls":6},{"$f":"IF(E769=\"\",\"\",(VLOOKUP(E769,REALVIEW!$A$2:$C$5000,3,FALSE)))","v":""}]
[{"$nulls":6},{"$f":"IF(E770=\"\",\"\",(VLOOKUP(E770,REALVIEW!$A$2:$C$5000,3,FALSE)))","v":""}]
[{"$nulls":6},{"$f":"IF(E771=\"\",\"\",(VLOOKUP(E771,REALVIEW!$A$2:$C$5000,3,FALSE)))","v":""}]
[{"$nulls":6},{"$f":"IF(E772=\"\",\"\",(VLOOKUP(E772,REALVIEW!$A$2:$C$5000,3,FALSE)))","v":""}]
[{"$nulls":6},{"$f":"IF(E773=\"\",\"\",(VLOOKUP(E773,REALVIEW!$A$2:$C$5000,3,FALSE)))","v":""}]
[{"$nulls":6},{"$f":"IF(E774=\"\",\"\",(VLOOKUP(E774,REALVIEW!$A$2:$C$5000,3,FALSE)))","v":""}]
[{"$nulls":6},{"$f":"IF(E775=\"\",\"\",(VLOOKUP(E775,REALVIEW!$A$2:$C$5000,3,FALSE)))","v":""}]
[{"$nulls":6},{"$f":"IF(E776=\"\",\"\",(VLOOKUP(E776,REALVIEW!$A$2:$C$5000,3,FALSE)))","v":""}]
[{"$nulls":6},{"$f":"IF(E777=\"\",\"\",(VLOOKUP(E777,REALVIEW!$A$2:$C$5000,3,FALSE)))","v":""}]
[{"$nulls":6},{"$f":"IF(E778=\"\",\"\",(VLOOKUP(E778,REALVIEW!$A$2:$C$5000,3,FALSE)))","v":""}]
[{"$nulls":6},{"$f":"IF(E779=\"\",\"\",(VLOOKUP(E779,REALVIEW!$A$2:$C$5000,3,FALSE)))","v":""}]
[{"$nulls":6},{"$f":"IF(E780=\"\",\"\",(VLOOKUP(E780,REALVIEW!$A$2:$C$5000,3,FALSE)))","v":""}]
[{"$nulls":6},{"$f":"IF(E781=\"\",\"\",(VLOOKUP(E781,REALVIEW!$A$2:$C$5000,3,FALSE)))","v":""}]
[{"$nulls":6},{"$f":"IF(E782=\"\",\"\",(VLOOKUP(E782,REALVIEW!$A$2:$C$5000,3,FALSE)))","v":""}]
[{"$nulls":6},{"$f":"IF(E783=\"\",\"\",(VLOOKUP(E783,REALVIEW!$A$2:$C$5000,3,FALSE)))","v":""}]
[{"$nulls":6},{"$f":"IF(E784=\"\",\"\",(VLOOKUP(E784,REALVIEW!$A$2:$C$5000,3,FALSE)))","v":""}]
[{"$nulls":6},{"$f":"IF(E785=\"\",\"\",(VLOOKUP(E785,REALVIEW!$A$2:$C$5000,3,FALSE)))","v":""}]
[{"$nulls":6},{"$f":"IF(E786=\"\",\"\",(VLOOKUP(E786,REALVIEW!$A$2:$C$5000,3,FALSE)))","v":""}]
[{"$nulls":6},{"$f":"IF(E787=\"\",\"\",(VLOOKUP(E787,REALVIEW!$A$2:$C$5000,3,FALSE)))","v":""}]
[{"$nulls":6},{"$f":"IF(E788=\"\",\"\",(VLOOKUP(E788,REALVIEW!$A$2:$C$5000,3,FALSE)))","v":""}]
[{"$nulls":6},{"$f":"IF(E789=\"\",\"\",(VLOOKUP(E789,REALVIEW!$A$2:$C$5000,3,FALSE)))","v":""}]
[{"$nulls":6},{"$f":"IF(E790=\"\",\"\",(VLOOKUP(E790,REALVIEW!$A$2:$C$5000,3,FALSE)))","v":""}]
[{"$nulls":6},{"$f":"IF(E791=\"\",\"\",(VLOOKUP(E791,REALVIEW!$A$2:$C$5000,3,FALSE)))","v":""}]
[{"$nulls":6},{"$f":"IF(E792=\"\",\"\",(VLOOKUP(E792,REALVIEW!$A$2:$C$5000,3,FALSE)))","v":""}]
[{"$nulls":6},{"$f":"IF(E793=\"\",\"\",(VLOOKUP(E793,REALVIEW!$A$2:$C$5000,3,FALSE)))","v":""}]
[{"$nulls":6},{"$f":"IF(E794=\"\",\"\",(VLOOKUP(E794,REALVIEW!$A$2:$C$5000,3,FALSE)))","v":""}]
[{"$nulls":6},{"$f":"IF(E795=\"\",\"\",(VLOOKUP(E795,REALVIEW!$A$2:$C$5000,3,FALSE)))","v":""}]
[{"$nulls":6},{"$f":"IF(E796=\"\",\"\",(VLOOKUP(E796,REALVIEW!$A$2:$C$5000,3,FALSE)))","v":""}]
[{"$nulls":6},{"$f":"IF(E797=\"\",\"\",(VLOOKUP(E797,REALVIEW!$A$2:$C$5000,3,FALSE)))","v":""}]
[{"$nulls":6},{"$f":"IF(E798=\"\",\"\",(VLOOKUP(E798,REALVIEW!$A$2:$C$5000,3,FALSE)))","v":""}]
[{"$nulls":6},{"$f":"IF(E799=\"\",\"\",(VLOOKUP(E799,REALVIEW!$A$2:$C$5000,3,FALSE)))","v":""}]
[{"$nulls":6},{"$f":"IF(E800=\"\",\"\",(VLOOKUP(E800,REALVIEW!$A$2:$C$5000,3,FALSE)))","v":""}]
[{"$nulls":6},{"$f":"IF(E801=\"\",\"\",(VLOOKUP(E801,REALVIEW!$A$2:$C$5000,3,FALSE)))","v":""}]
[{"$nulls":6},{"$f":"IF(E802=\"\",\"\",(VLOOKUP(E802,REALVIEW!$A$2:$C$5000,3,FALSE)))","v":""}]
[{"$nulls":6},{"$f":"IF(E803=\"\",\"\",(VLOOKUP(E803,REALVIEW!$A$2:$C$5000,3,FALSE)))","v":""}]
[{"$nulls":6},{"$f":"IF(E804=\"\",\"\",(VLOOKUP(E804,REALVIEW!$A$2:$C$5000,3,FALSE)))","v":""}]
[{"$nulls":6},{"$f":"IF(E805=\"\",\"\",(VLOOKUP(E805,REALVIEW!$A$2:$C$5000,3,FALSE)))","v":""}]
[{"$nulls":6},{"$f":"IF(E806=\"\",\"\",(VLOOKUP(E806,REALVIEW!$A$2:$C$5000,3,FALSE)))","v":""}]
[{"$nulls":6},{"$f":"IF(E807=\"\",\"\",(VLOOKUP(E807,REALVIEW!$A$2:$C$5000,3,FALSE)))","v":""}]
[{"$nulls":6},{"$f":"IF(E808=\"\",\"\",(VLOOKUP(E808,REALVIEW!$A$2:$C$5000,3,FALSE)))","v":""}]
[{"$nulls":6},{"$f":"IF(E809=\"\",\"\",(VLOOKUP(E809,REALVIEW!$A$2:$C$5000,3,FALSE)))","v":""}]
[{"$nulls":6},{"$f":"IF(E810=\"\",\"\",(VLOOKUP(E810,REALVIEW!$A$2:$C$5000,3,FALSE)))","v":""}]
[{"$nulls":6},{"$f":"IF(E811=\"\",\"\",(VLOOKUP(E811,REALVIEW!$A$2:$C$5000,3,FALSE)))","v":""}]
[{"$nulls":6},{"$f":"IF(E812=\"\",\"\",(VLOOKUP(E812,REALVIEW!$A$2:$C$5000,3,FALSE)))","v":""}]
[{"$nulls":6},{"$f":"IF(E813=\"\",\"\",(VLOOKUP(E813,REALVIEW!$A$2:$C$5000,3,FALSE)))","v":""}]
[{"$nulls":6},{"$f":"IF(E814=\"\",\"\",(VLOOKUP(E814,REALVIEW!$A$2:$C$5000,3,FALSE)))","v":""}]
[{"$nulls":6},{"$f":"IF(E815=\"\",\"\",(VLOOKUP(E815,REALVIEW!$A$2:$C$5000,3,FALSE)))","v":""}]
[{"$nulls":6},{"$f":"IF(E816=\"\",\"\",(VLOOKUP(E816,REALVIEW!$A$2:$C$5000,3,FALSE)))","v":""}]
[{"$nulls":6},{"$f":"IF(E817=\"\",\"\",(VLOOKUP(E817,REALVIEW!$A$2:$C$5000,3,FALSE)))","v":""}]
[{"$nulls":6},{"$f":"IF(E818=\"\",\"\",(VLOOKUP(E818,REALVIEW!$A$2:$C$5000,3,FALSE)))","v":""}]
[{"$nulls":6},{"$f":"IF(E819=\"\",\"\",(VLOOKUP(E819,REALVIEW!$A$2:$C$5000,3,FALSE)))","v":""}]
[{"$nulls":6},{"$f":"IF(E820=\"\",\"\",(VLOOKUP(E820,REALVIEW!$A$2:$C$5000,3,FALSE)))","v":""}]
[{"$nulls":6},{"$f":"IF(E821=\"\",\"\",(VLOOKUP(E821,REALVIEW!$A$2:$C$5000,3,FALSE)))","v":""}]
[{"$nulls":6},{"$f":"IF(E822=\"\",\"\",(VLOOKUP(E822,REALVIEW!$A$2:$C$5000,3,FALSE)))","v":""}]
[{"$nulls":6},{"$f":"IF(E823=\"\",\"\",(VLOOKUP(E823,REALVIEW!$A$2:$C$5000,3,FALSE)))","v":""}]
[{"$nulls":6},{"$f":"IF(E824=\"\",\"\",(VLOOKUP(E824,REALVIEW!$A$2:$C$5000,3,FALSE)))","v":""}]
[{"$nulls":6},{"$f":"IF(E825=\"\",\"\",(VLOOKUP(E825,REALVIEW!$A$2:$C$5000,3,FALSE)))","v":""}]
[{"$nulls":6},{"$f":"IF(E826=\"\",\"\",(VLOOKUP(E826,REALVIEW!$A$2:$C$5000,3,FALSE)))","v":""}]
[{"$nulls":6},{"$f":"IF(E827=\"\",\"\",(VLOOKUP(E827,REALVIEW!$A$2:$C$5000,3,FALSE)))","v":""}]
[{"$nulls":6},{"$f":"IF(E828=\"\",\"\",(VLOOKUP(E828,REALVIEW!$A$2:$C$5000,3,FALSE)))","v":""}]
[{"$nulls":6},{"$f":"IF(E829=\"\",\"\",(VLOOKUP(E829,REALVIEW!$A$2:$C$5000,3,FALSE)))","v":""}]
[{"$nulls":6},{"$f":"IF(E830=\"\",\"\",(VLOOKUP(E830,REALVIEW!$A$2:$C$5000,3,FALSE)))","v":""}]
[{"$nulls":6},{"$f":"IF(E831=\"\",\"\",(VLOOKUP(E831,REALVIEW!$A$2:$C$5000,3,FALSE)))","v":""}]
[{"$nulls":6},{"$f":"IF(E832=\"\",\"\",(VLOOKUP(E832,REALVIEW!$A$2:$C$5000,3,FALSE)))","v":""}]
[{"$nulls":6},{"$f":"IF(E833=\"\",\"\",(VLOOKUP(E833,REALVIEW!$A$2:$C$5000,3,FALSE)))","v":""}]
[{"$nulls":6},{"$f":"IF(E834=\"\",\"\",(VLOOKUP(E834,REALVIEW!$A$2:$C$5000,3,FALSE)))","v":""}]
[{"$nulls":6},{"$f":"IF(E835=\"\",\"\",(VLOOKUP(E835,REALVIEW!$A$2:$C$5000,3,FALSE)))","v":""}]
[{"$nulls":6},{"$f":"IF(E836=\"\",\"\",(VLOOKUP(E836,REALVIEW!$A$2:$C$5000,3,FALSE)))","v":""}]
[{"$nulls":6},{"$f":"IF(E837=\"\",\"\",(VLOOKUP(E837,REALVIEW!$A$2:$C$5000,3,FALSE)))","v":""}]
[{"$nulls":6},{"$f":"IF(E838=\"\",\"\",(VLOOKUP(E838,REALVIEW!$A$2:$C$5000,3,FALSE)))","v":""}]
[{"$nulls":6},{"$f":"IF(E839=\"\",\"\",(VLOOKUP(E839,REALVIEW!$A$2:$C$5000,3,FALSE)))","v":""}]
[{"$nulls":6},{"$f":"IF(E840=\"\",\"\",(VLOOKUP(E840,REALVIEW!$A$2:$C$5000,3,FALSE)))","v":""}]
[{"$nulls":6},{"$f":"IF(E841=\"\",\"\",(VLOOKUP(E841,REALVIEW!$A$2:$C$5000,3,FALSE)))","v":""}]
[{"$nulls":6},{"$f":"IF(E842=\"\",\"\",(VLOOKUP(E842,REALVIEW!$A$2:$C$5000,3,FALSE)))","v":""}]
[{"$nulls":6},{"$f":"IF(E843=\"\",\"\",(VLOOKUP(E843,REALVIEW!$A$2:$C$5000,3,FALSE)))","v":""}]
[{"$nulls":6},{"$f":"IF(E844=\"\",\"\",(VLOOKUP(E844,REALVIEW!$A$2:$C$5000,3,FALSE)))","v":""}]
[{"$nulls":6},{"$f":"IF(E845=\"\",\"\",(VLOOKUP(E845,REALVIEW!$A$2:$C$5000,3,FALSE)))","v":""}]
[{"$nulls":6},{"$f":"IF(E846=\"\",\"\",(VLOOKUP(E846,REALVIEW!$A$2:$C$5000,3,FALSE)))","v":""}]
[{"$nulls":6},{"$f":"IF(E847=\"\",\"\",(VLOOKUP(E847,REALVIEW!$A$2:$C$5000,3,FALSE)))","v":""}]
[{"$nulls":6},{"$f":"IF(E848=\"\",\"\",(VLOOKUP(E848,REALVIEW!$A$2:$C$5000,3,FALSE)))","v":""}]
[{"$nulls":6},{"$f":"IF(E849=\"\",\"\",(VLOOKUP(E849,REALVIEW!$A$2:$C$5000,3,FALSE)))","v":""}]
[{"$nulls":6},{"$f":"IF(E850=\"\",\"\",(VLOOKUP(E850,REALVIEW!$A$2:$C$5000,3,FALSE)))","v":""}]
[{"$nulls":6},{"$f":"IF(E851=\"\",\"\",(VLOOKUP(E851,REALVIEW!$A$2:$C$5000,3,FALSE)))","v":""}]
[{"$nulls":6},{"$f":"IF(E852=\"\",\"\",(VLOOKUP(E852,REALVIEW!$A$2:$C$5000,3,FALSE)))","v":""}]
[{"$nulls":6},{"$f":"IF(E853=\"\",\"\",(VLOOKUP(E853,REALVIEW!$A$2:$C$5000,3,FALSE)))","v":""}]
[{"$nulls":6},{"$f":"IF(E854=\"\",\"\",(VLOOKUP(E854,REALVIEW!$A$2:$C$5000,3,FALSE)))","v":""}]
[{"$nulls":6},{"$f":"IF(E855=\"\",\"\",(VLOOKUP(E855,REALVIEW!$A$2:$C$5000,3,FALSE)))","v":""}]
[{"$nulls":6},{"$f":"IF(E856=\"\",\"\",(VLOOKUP(E856,REALVIEW!$A$2:$C$5000,3,FALSE)))","v":""}]
[{"$nulls":6},{"$f":"IF(E857=\"\",\"\",(VLOOKUP(E857,REALVIEW!$A$2:$C$5000,3,FALSE)))","v":""}]
[{"$nulls":6},{"$f":"IF(E858=\"\",\"\",(VLOOKUP(E858,REALVIEW!$A$2:$C$5000,3,FALSE)))","v":""}]
[{"$nulls":6},{"$f":"IF(E859=\"\",\"\",(VLOOKUP(E859,REALVIEW!$A$2:$C$5000,3,FALSE)))","v":""}]
[{"$nulls":6},{"$f":"IF(E860=\"\",\"\",(VLOOKUP(E860,REALVIEW!$A$2:$C$5000,3,FALSE)))","v":""}]
[{"$nulls":6},{"$f":"IF(E861=\"\",\"\",(VLOOKUP(E861,REALVIEW!$A$2:$C$5000,3,FALSE)))","v":""}]
[{"$nulls":6},{"$f":"IF(E862=\"\",\"\",(VLOOKUP(E862,REALVIEW!$A$2:$C$5000,3,FALSE)))","v":""}]
[{"$nulls":6},{"$f":"IF(E863=\"\",\"\",(VLOOKUP(E863,REALVIEW!$A$2:$C$5000,3,FALSE)))","v":""}]
[{"$nulls":6},{"$f":"IF(E864=\"\",\"\",(VLOOKUP(E864,REALVIEW!$A$2:$C$5000,3,FALSE)))","v":""}]
[{"$nulls":6},{"$f":"IF(E865=\"\",\"\",(VLOOKUP(E865,REALVIEW!$A$2:$C$5000,3,FALSE)))","v":""}]
[{"$nulls":6},{"$f":"IF(E866=\"\",\"\",(VLOOKUP(E866,REALVIEW!$A$2:$C$5000,3,FALSE)))","v":""}]
[{"$nulls":6},{"$f":"IF(E867=\"\",\"\",(VLOOKUP(E867,REALVIEW!$A$2:$C$5000,3,FALSE)))","v":""}]
[{"$nulls":6},{"$f":"IF(E868=\"\",\"\",(VLOOKUP(E868,REALVIEW!$A$2:$C$5000,3,FALSE)))","v":""}]
[{"$nulls":6},{"$f":"IF(E869=\"\",\"\",(VLOOKUP(E869,REALVIEW!$A$2:$C$5000,3,FALSE)))","v":""}]
[{"$nulls":6},{"$f":"IF(E870=\"\",\"\",(VLOOKUP(E870,REALVIEW!$A$2:$C$5000,3,FALSE)))","v":""}]
[{"$nulls":6},{"$f":"IF(E871=\"\",\"\",(VLOOKUP(E871,REALVIEW!$A$2:$C$5000,3,FALSE)))","v":""}]
[{"$nulls":6},{"$f":"IF(E872=\"\",\"\",(VLOOKUP(E872,REALVIEW!$A$2:$C$5000,3,FALSE)))","v":""}]
[{"$nulls":6},{"$f":"IF(E873=\"\",\"\",(VLOOKUP(E873,REALVIEW!$A$2:$C$5000,3,FALSE)))","v":""}]
[{"$nulls":6},{"$f":"IF(E874=\"\",\"\",(VLOOKUP(E874,REALVIEW!$A$2:$C$5000,3,FALSE)))","v":""}]
[{"$nulls":6},{"$f":"IF(E875=\"\",\"\",(VLOOKUP(E875,REALVIEW!$A$2:$C$5000,3,FALSE)))","v":""}]
[{"$nulls":6},{"$f":"IF(E876=\"\",\"\",(VLOOKUP(E876,REALVIEW!$A$2:$C$5000,3,FALSE)))","v":""}]
[{"$nulls":6},{"$f":"IF(E877=\"\",\"\",(VLOOKUP(E877,REALVIEW!$A$2:$C$5000,3,FALSE)))","v":""}]
[{"$nulls":6},{"$f":"IF(E878=\"\",\"\",(VLOOKUP(E878,REALVIEW!$A$2:$C$5000,3,FALSE)))","v":""}]
[{"$nulls":6},{"$f":"IF(E879=\"\",\"\",(VLOOKUP(E879,REALVIEW!$A$2:$C$5000,3,FALSE)))","v":""}]
[{"$nulls":6},{"$f":"IF(E880=\"\",\"\",(VLOOKUP(E880,REALVIEW!$A$2:$C$5000,3,FALSE)))","v":""}]
[{"$nulls":6},{"$f":"IF(E881=\"\",\"\",(VLOOKUP(E881,REALVIEW!$A$2:$C$5000,3,FALSE)))","v":""}]
[{"$nulls":6},{"$f":"IF(E882=\"\",\"\",(VLOOKUP(E882,REALVIEW!$A$2:$C$5000,3,FALSE)))","v":""}]
[{"$nulls":6},{"$f":"IF(E883=\"\",\"\",(VLOOKUP(E883,REALVIEW!$A$2:$C$5000,3,FALSE)))","v":""}]
[{"$nulls":6},{"$f":"IF(E884=\"\",\"\",(VLOOKUP(E884,REALVIEW!$A$2:$C$5000,3,FALSE)))","v":""}]
[{"$nulls":6},{"$f":"IF(E885=\"\",\"\",(VLOOKUP(E885,REALVIEW!$A$2:$C$5000,3,FALSE)))","v":""}]
[{"$nulls":6},{"$f":"IF(E886=\"\",\"\",(VLOOKUP(E886,REALVIEW!$A$2:$C$5000,3,FALSE)))","v":""}]
[{"$nulls":6},{"$f":"IF(E887=\"\",\"\",(VLOOKUP(E887,REALVIEW!$A$2:$C$5000,3,FALSE)))","v":""}]
[{"$nulls":6},{"$f":"IF(E888=\"\",\"\",(VLOOKUP(E888,REALVIEW!$A$2:$C$5000,3,FALSE)))","v":""}]
[{"$nulls":6},{"$f":"IF(E889=\"\",\"\",(VLOOKUP(E889,REALVIEW!$A$2:$C$5000,3,FALSE)))","v":""}]
[{"$nulls":6},{"$f":"IF(E890=\"\",\"\",(VLOOKUP(E890,REALVIEW!$A$2:$C$5000,3,FALSE)))","v":""}]
[{"$nulls":6},{"$f":"IF(E891=\"\",\"\",(VLOOKUP(E891,REALVIEW!$A$2:$C$5000,3,FALSE)))","v":""}]
[{"$nulls":6},{"$f":"IF(E892=\"\",\"\",(VLOOKUP(E892,REALVIEW!$A$2:$C$5000,3,FALSE)))","v":""}]
[{"$nulls":6},{"$f":"IF(E893=\"\",\"\",(VLOOKUP(E893,REALVIEW!$A$2:$C$5000,3,FALSE)))","v":""}]
[{"$nulls":6},{"$f":"IF(E894=\"\",\"\",(VLOOKUP(E894,REALVIEW!$A$2:$C$5000,3,FALSE)))","v":""}]
[{"$nulls":6},{"$f":"IF(E895=\"\",\"\",(VLOOKUP(E895,REALVIEW!$A$2:$C$5000,3,FALSE)))","v":""}]
[{"$nulls":6},{"$f":"IF(E896=\"\",\"\",(VLOOKUP(E896,REALVIEW!$A$2:$C$5000,3,FALSE)))","v":""}]
[{"$nulls":6},{"$f":"IF(E897=\"\",\"\",(VLOOKUP(E897,REALVIEW!$A$2:$C$5000,3,FALSE)))","v":""}]
[{"$nulls":6},{"$f":"IF(E898=\"\",\"\",(VLOOKUP(E898,REALVIEW!$A$2:$C$5000,3,FALSE)))","v":""}]
[{"$nulls":6},{"$f":"IF(E899=\"\",\"\",(VLOOKUP(E899,REALVIEW!$A$2:$C$5000,3,FALSE)))","v":""}]
[{"$nulls":6},{"$f":"IF(E900=\"\",\"\",(VLOOKUP(E900,REALVIEW!$A$2:$C$5000,3,FALSE)))","v":""}]
[{"$nulls":6},{"$f":"IF(E901=\"\",\"\",(VLOOKUP(E901,REALVIEW!$A$2:$C$5000,3,FALSE)))","v":""}]
[{"$nulls":6},{"$f":"IF(E902=\"\",\"\",(VLOOKUP(E902,REALVIEW!$A$2:$C$5000,3,FALSE)))","v":""}]
[{"$nulls":6},{"$f":"IF(E903=\"\",\"\",(VLOOKUP(E903,REALVIEW!$A$2:$C$5000,3,FALSE)))","v":""}]
[{"$nulls":6},{"$f":"IF(E904=\"\",\"\",(VLOOKUP(E904,REALVIEW!$A$2:$C$5000,3,FALSE)))","v":""}]
[{"$nulls":6},{"$f":"IF(E905=\"\",\"\",(VLOOKUP(E905,REALVIEW!$A$2:$C$5000,3,FALSE)))","v":""}]
[{"$nulls":6},{"$f":"IF(E906=\"\",\"\",(VLOOKUP(E906,REALVIEW!$A$2:$C$5000,3,FALSE)))","v":""}]
[{"$nulls":6},{"$f":"IF(E907=\"\",\"\",(VLOOKUP(E907,REALVIEW!$A$2:$C$5000,3,FALSE)))","v":""}]
[{"$nulls":6},{"$f":"IF(E908=\"\",\"\",(VLOOKUP(E908,REALVIEW!$A$2:$C$5000,3,FALSE)))","v":""}]
[{"$nulls":6},{"$f":"IF(E909=\"\",\"\",(VLOOKUP(E909,REALVIEW!$A$2:$C$5000,3,FALSE)))","v":""}]
[{"$nulls":6},{"$f":"IF(E910=\"\",\"\",(VLOOKUP(E910,REALVIEW!$A$2:$C$5000,3,FALSE)))","v":""}]
[{"$nulls":6},{"$f":"IF(E911=\"\",\"\",(VLOOKUP(E911,REALVIEW!$A$2:$C$5000,3,FALSE)))","v":""}]
[{"$nulls":6},{"$f":"IF(E912=\"\",\"\",(VLOOKUP(E912,REALVIEW!$A$2:$C$5000,3,FALSE)))","v":""}]
[{"$nulls":6},{"$f":"IF(E913=\"\",\"\",(VLOOKUP(E913,REALVIEW!$A$2:$C$5000,3,FALSE)))","v":""}]
[{"$nulls":6},{"$f":"IF(E914=\"\",\"\",(VLOOKUP(E914,REALVIEW!$A$2:$C$5000,3,FALSE)))","v":""}]
[{"$nulls":6},{"$f":"IF(E915=\"\",\"\",(VLOOKUP(E915,REALVIEW!$A$2:$C$5000,3,FALSE)))","v":""}]
[{"$nulls":6},{"$f":"IF(E916=\"\",\"\",(VLOOKUP(E916,REALVIEW!$A$2:$C$5000,3,FALSE)))","v":""}]
[{"$nulls":6},{"$f":"IF(E917=\"\",\"\",(VLOOKUP(E917,REALVIEW!$A$2:$C$5000,3,FALSE)))","v":""}]
[{"$nulls":6},{"$f":"IF(E918=\"\",\"\",(VLOOKUP(E918,REALVIEW!$A$2:$C$5000,3,FALSE)))","v":""}]
[{"$nulls":6},{"$f":"IF(E919=\"\",\"\",(VLOOKUP(E919,REALVIEW!$A$2:$C$5000,3,FALSE)))","v":""}]
[{"$nulls":6},{"$f":"IF(E920=\"\",\"\",(VLOOKUP(E920,REALVIEW!$A$2:$C$5000,3,FALSE)))","v":""}]
[{"$nulls":6},{"$f":"IF(E921=\"\",\"\",(VLOOKUP(E921,REALVIEW!$A$2:$C$5000,3,FALSE)))","v":""}]
[{"$nulls":6},{"$f":"IF(E922=\"\",\"\",(VLOOKUP(E922,REALVIEW!$A$2:$C$5000,3,FALSE)))","v":""}]
[{"$nulls":6},{"$f":"IF(E923=\"\",\"\",(VLOOKUP(E923,REALVIEW!$A$2:$C$5000,3,FALSE)))","v":""}]
[{"$nulls":6},{"$f":"IF(E924=\"\",\"\",(VLOOKUP(E924,REALVIEW!$A$2:$C$5000,3,FALSE)))","v":""}]
[{"$nulls":6},{"$f":"IF(E925=\"\",\"\",(VLOOKUP(E925,REALVIEW!$A$2:$C$5000,3,FALSE)))","v":""}]
[{"$nulls":6},{"$f":"IF(E926=\"\",\"\",(VLOOKUP(E926,REALVIEW!$A$2:$C$5000,3,FALSE)))","v":""}]
[{"$nulls":6},{"$f":"IF(E927=\"\",\"\",(VLOOKUP(E927,REALVIEW!$A$2:$C$5000,3,FALSE)))","v":""}]
[{"$nulls":6},{"$f":"IF(E928=\"\",\"\",(VLOOKUP(E928,REALVIEW!$A$2:$C$5000,3,FALSE)))","v":""}]
[{"$nulls":6},{"$f":"IF(E929=\"\",\"\",(VLOOKUP(E929,REALVIEW!$A$2:$C$5000,3,FALSE)))","v":""}]
[{"$nulls":6},{"$f":"IF(E930=\"\",\"\",(VLOOKUP(E930,REALVIEW!$A$2:$C$5000,3,FALSE)))","v":""}]
[{"$nulls":6},{"$f":"IF(E931=\"\",\"\",(VLOOKUP(E931,REALVIEW!$A$2:$C$5000,3,FALSE)))","v":""}]
[{"$nulls":6},{"$f":"IF(E932=\"\",\"\",(VLOOKUP(E932,REALVIEW!$A$2:$C$5000,3,FALSE)))","v":""}]
[{"$nulls":6},{"$f":"IF(E933=\"\",\"\",(VLOOKUP(E933,REALVIEW!$A$2:$C$5000,3,FALSE)))","v":""}]
[{"$nulls":6},{"$f":"IF(E934=\"\",\"\",(VLOOKUP(E934,REALVIEW!$A$2:$C$5000,3,FALSE)))","v":""}]
[{"$nulls":6},{"$f":"IF(E935=\"\",\"\",(VLOOKUP(E935,REALVIEW!$A$2:$C$5000,3,FALSE)))","v":""}]
[{"$nulls":6},{"$f":"IF(E936=\"\",\"\",(VLOOKUP(E936,REALVIEW!$A$2:$C$5000,3,FALSE)))","v":""}]
[{"$nulls":6},{"$f":"IF(E937=\"\",\"\",(VLOOKUP(E937,REALVIEW!$A$2:$C$5000,3,FALSE)))","v":""}]
[{"$nulls":6},{"$f":"IF(E938=\"\",\"\",(VLOOKUP(E938,REALVIEW!$A$2:$C$5000,3,FALSE)))","v":""}]
[{"$nulls":6},{"$f":"IF(E939=\"\",\"\",(VLOOKUP(E939,REALVIEW!$A$2:$C$5000,3,FALSE)))","v":""}]
[{"$nulls":6},{"$f":"IF(E940=\"\",\"\",(VLOOKUP(E940,REALVIEW!$A$2:$C$5000,3,FALSE)))","v":""}]
[{"$nulls":6},{"$f":"IF(E941=\"\",\"\",(VLOOKUP(E941,REALVIEW!$A$2:$C$5000,3,FALSE)))","v":""}]
[{"$nulls":6},{"$f":"IF(E942=\"\",\"\",(VLOOKUP(E942,REALVIEW!$A$2:$C$5000,3,FALSE)))","v":""}]
[{"$nulls":6},{"$f":"IF(E943=\"\",\"\",(VLOOKUP(E943,REALVIEW!$A$2:$C$5000,3,FALSE)))","v":""}]
[{"$nulls":6},{"$f":"IF(E944=\"\",\"\",(VLOOKUP(E944,REALVIEW!$A$2:$C$5000,3,FALSE)))","v":""}]
[{"$nulls":6},{"$f":"IF(E945=\"\",\"\",(VLOOKUP(E945,REALVIEW!$A$2:$C$5000,3,FALSE)))","v":""}]
[{"$nulls":6},{"$f":"IF(E946=\"\",\"\",(VLOOKUP(E946,REALVIEW!$A$2:$C$5000,3,FALSE)))","v":""}]
[{"$nulls":6},{"$f":"IF(E947=\"\",\"\",(VLOOKUP(E947,REALVIEW!$A$2:$C$5000,3,FALSE)))","v":""}]
[{"$nulls":6},{"$f":"IF(E948=\"\",\"\",(VLOOKUP(E948,REALVIEW!$A$2:$C$5000,3,FALSE)))","v":""}]
[{"$nulls":6},{"$f":"IF(E949=\"\",\"\",(VLOOKUP(E949,REALVIEW!$A$2:$C$5000,3,FALSE)))","v":""}]
[{"$nulls":6},{"$f":"IF(E950=\"\",\"\",(VLOOKUP(E950,REALVIEW!$A$2:$C$5000,3,FALSE)))","v":""}]
[{"$nulls":6},{"$f":"IF(E951=\"\",\"\",(VLOOKUP(E951,REALVIEW!$A$2:$C$5000,3,FALSE)))","v":""}]
[{"$nulls":6},{"$f":"IF(E952=\"\",\"\",(VLOOKUP(E952,REALVIEW!$A$2:$C$5000,3,FALSE)))","v":""}]
[{"$nulls":6},{"$f":"IF(E953=\"\",\"\",(VLOOKUP(E953,REALVIEW!$A$2:$C$5000,3,FALSE)))","v":""}]
[{"$nulls":6},{"$f":"IF(E954=\"\",\"\",(VLOOKUP(E954,REALVIEW!$A$2:$C$5000,3,FALSE)))","v":""}]
[{"$nulls":6},{"$f":"IF(E955=\"\",\"\",(VLOOKUP(E955,REALVIEW!$A$2:$C$5000,3,FALSE)))","v":""}]
[{"$nulls":6},{"$f":"IF(E956=\"\",\"\",(VLOOKUP(E956,REALVIEW!$A$2:$C$5000,3,FALSE)))","v":""}]
[{"$nulls":6},{"$f":"IF(E957=\"\",\"\",(VLOOKUP(E957,REALVIEW!$A$2:$C$5000,3,FALSE)))","v":""}]
[{"$nulls":6},{"$f":"IF(E958=\"\",\"\",(VLOOKUP(E958,REALVIEW!$A$2:$C$5000,3,FALSE)))","v":""}]
[{"$nulls":6},{"$f":"IF(E959=\"\",\"\",(VLOOKUP(E959,REALVIEW!$A$2:$C$5000,3,FALSE)))","v":""}]
[{"$nulls":6},{"$f":"IF(E960=\"\",\"\",(VLOOKUP(E960,REALVIEW!$A$2:$C$5000,3,FALSE)))","v":""}]
[{"$nulls":6},{"$f":"IF(E961=\"\",\"\",(VLOOKUP(E961,REALVIEW!$A$2:$C$5000,3,FALSE)))","v":""}]
[{"$nulls":6},{"$f":"IF(E962=\"\",\"\",(VLOOKUP(E962,REALVIEW!$A$2:$C$5000,3,FALSE)))","v":""}]
[{"$nulls":6},{"$f":"IF(E963=\"\",\"\",(VLOOKUP(E963,REALVIEW!$A$2:$C$5000,3,FALSE)))","v":""}]
[{"$nulls":6},{"$f":"IF(E964=\"\",\"\",(VLOOKUP(E964,REALVIEW!$A$2:$C$5000,3,FALSE)))","v":""}]
[{"$nulls":6},{"$f":"IF(E965=\"\",\"\",(VLOOKUP(E965,REALVIEW!$A$2:$C$5000,3,FALSE)))","v":""}]
[{"$nulls":6},{"$f":"IF(E966=\"\",\"\",(VLOOKUP(E966,REALVIEW!$A$2:$C$5000,3,FALSE)))","v":""}]
[{"$nulls":6},{"$f":"IF(E967=\"\",\"\",(VLOOKUP(E967,REALVIEW!$A$2:$C$5000,3,FALSE)))","v":""}]
[{"$nulls":6},{"$f":"IF(E968=\"\",\"\",(VLOOKUP(E968,REALVIEW!$A$2:$C$5000,3,FALSE)))","v":""}]
[{"$nulls":6},{"$f":"IF(E969=\"\",\"\",(VLOOKUP(E969,REALVIEW!$A$2:$C$5000,3,FALSE)))","v":""}]
[{"$nulls":6},{"$f":"IF(E970=\"\",\"\",(VLOOKUP(E970,REALVIEW!$A$2:$C$5000,3,FALSE)))","v":""}]
[{"$nulls":6},{"$f":"IF(E971=\"\",\"\",(VLOOKUP(E971,REALVIEW!$A$2:$C$5000,3,FALSE)))","v":""}]
[{"$nulls":6},{"$f":"IF(E972=\"\",\"\",(VLOOKUP(E972,REALVIEW!$A$2:$C$5000,3,FALSE)))","v":""}]
[{"$nulls":6},{"$f":"IF(E973=\"\",\"\",(VLOOKUP(E973,REALVIEW!$A$2:$C$5000,3,FALSE)))","v":""}]
[{"$nulls":6},{"$f":"IF(E974=\"\",\"\",(VLOOKUP(E974,REALVIEW!$A$2:$C$5000,3,FALSE)))","v":""}]
[{"$nulls":6},{"$f":"IF(E975=\"\",\"\",(VLOOKUP(E975,REALVIEW!$A$2:$C$5000,3,FALSE)))","v":""}]
[{"$nulls":6},{"$f":"IF(E976=\"\",\"\",(VLOOKUP(E976,REALVIEW!$A$2:$C$5000,3,FALSE)))","v":""}]
[{"$nulls":6},{"$f":"IF(E977=\"\",\"\",(VLOOKUP(E977,REALVIEW!$A$2:$C$5000,3,FALSE)))","v":""}]
[{"$nulls":6},{"$f":"IF(E978=\"\",\"\",(VLOOKUP(E978,REALVIEW!$A$2:$C$5000,3,FALSE)))","v":""}]
[{"$nulls":6},{"$f":"IF(E979=\"\",\"\",(VLOOKUP(E979,REALVIEW!$A$2:$C$5000,3,FALSE)))","v":""}]
[{"$nulls":6},{"$f":"IF(E980=\"\",\"\",(VLOOKUP(E980,REALVIEW!$A$2:$C$5000,3,FALSE)))","v":""}]
[{"$nulls":6},{"$f":"IF(E981=\"\",\"\",(VLOOKUP(E981,REALVIEW!$A$2:$C$5000,3,FALSE)))","v":""}]
[{"$nulls":6},{"$f":"IF(E982=\"\",\"\",(VLOOKUP(E982,REALVIEW!$A$2:$C$5000,3,FALSE)))","v":""}]
[{"$nulls":6},{"$f":"IF(E983=\"\",\"\",(VLOOKUP(E983,REALVIEW!$A$2:$C$5000,3,FALSE)))","v":""}]
[{"$nulls":6},{"$f":"IF(E984=\"\",\"\",(VLOOKUP(E984,REALVIEW!$A$2:$C$5000,3,FALSE)))","v":""}]
[{"$nulls":6},{"$f":"IF(E985=\"\",\"\",(VLOOKUP(E985,REALVIEW!$A$2:$C$5000,3,FALSE)))","v":""}]
[{"$nulls":6},{"$f":"IF(E986=\"\",\"\",(VLOOKUP(E986,REALVIEW!$A$2:$C$5000,3,FALSE)))","v":""}]
[{"$nulls":6},{"$f":"IF(E987=\"\",\"\",(VLOOKUP(E987,REALVIEW!$A$2:$C$5000,3,FALSE)))","v":""}]
[{"$nulls":6},{"$f":"IF(E988=\"\",\"\",(VLOOKUP(E988,REALVIEW!$A$2:$C$5000,3,FALSE)))","v":""}]
[{"$nulls":6},{"$f":"IF(E989=\"\",\"\",(VLOOKUP(E989,REALVIEW!$A$2:$C$5000,3,FALSE)))","v":""}]
[{"$nulls":6},{"$f":"IF(E990=\"\",\"\",(VLOOKUP(E990,REALVIEW!$A$2:$C$5000,3,FALSE)))","v":""}]
[{"$nulls":6},{"$f":"IF(E991=\"\",\"\",(VLOOKUP(E991,REALVIEW!$A$2:$C$5000,3,FALSE)))","v":""}]
[{"$nulls":6},{"$f":"IF(E992=\"\",\"\",(VLOOKUP(E992,REALVIEW!$A$2:$C$5000,3,FALSE)))","v":""}]
[{"$nulls":6},{"$f":"IF(E993=\"\",\"\",(VLOOKUP(E993,REALVIEW!$A$2:$C$5000,3,FALSE)))","v":""}]
[{"$nulls":6},{"$f":"IF(E994=\"\",\"\",(VLOOKUP(E994,REALVIEW!$A$2:$C$5000,3,FALSE)))","v":""}]
[{"$nulls":6},{"$f":"IF(E995=\"\",\"\",(VLOOKUP(E995,REALVIEW!$A$2:$C$5000,3,FALSE)))","v":""}]
[{"$nulls":6},{"$f":"IF(E996=\"\",\"\",(VLOOKUP(E996,REALVIEW!$A$2:$C$5000,3,FALSE)))","v":""}]
[{"$nulls":6},{"$f":"IF(E997=\"\",\"\",(VLOOKUP(E997,REALVIEW!$A$2:$C$5000,3,FALSE)))","v":""}]
[{"$nulls":6},{"$f":"IF(E998=\"\",\"\",(VLOOKUP(E998,REALVIEW!$A$2:$C$5000,3,FALSE)))","v":""}]
[{"$nulls":6},{"$f":"IF(E999=\"\",\"\",(VLOOKUP(E999,REALVIEW!$A$2:$C$5000,3,FALSE)))","v":""}]

{"sheet":"REALVIEW","index":1,"n_rows":3,"n_cols":3,"rows_kept":3}
["Bereich","Breadcrumb_Linie","ID_Struktur"]
["WHG 1","Haus 1 | EG | WHG 1"]
["WHG 2","Haus 1 | OG | WHG 2"]